BEGIN:VCALENDAR
PRODID:-//eluceo/ical//2.0/EN
VERSION:2.0
CALSCALE:GREGORIAN
BEGIN:VEVENT
UID:asa-handball/rencontre/2694
DTSTAMP:20260424T152301Z
SUMMARY:-12M1 : AAEEC PONTS DE CE 1
DESCRIPTION:Salle : SALLE TABARLY\nRésultat : 27 - 17
URL:https://www.handball-avrille.com/rencontre/2694
DTSTART;TZID=Europe/Paris:20250913T133000
DTEND;TZID=Europe/Paris:20250913T150000
LOCATION:SALLE TABARLY
GEO:47.500830;-0.595560
X-APPLE-STRUCTURED-LOCATION;VALUE=URI;X-ADDRESS=SALLE TABARLY;X-APPLE-RADIU
 S=49;X-TITLE=:geo:47.500830,-0.595560
CATEGORIES:rencontre
END:VEVENT
BEGIN:VEVENT
UID:asa-handball/rencontre/2703
DTSTAMP:20260424T152301Z
SUMMARY:-12M1 : UNION SAUMUR DOUE 1
DESCRIPTION:Salle : JEAN CHACUN (EX - DELESSERT)\nRésultat : 22 - 31
URL:https://www.handball-avrille.com/rencontre/2703
DTSTART;TZID=Europe/Paris:20250920T120000
DTEND;TZID=Europe/Paris:20250920T133000
LOCATION:JEAN CHACUN (EX - DELESSERT)
GEO:47.256410;-0.087620
X-APPLE-STRUCTURED-LOCATION;VALUE=URI;X-ADDRESS=JEAN CHACUN (EX - DELESSERT
 );X-APPLE-RADIUS=49;X-TITLE=:geo:47.256410,-0.087620
CATEGORIES:rencontre
END:VEVENT
BEGIN:VEVENT
UID:asa-handball/rencontre/2708
DTSTAMP:20260424T152301Z
SUMMARY:-12M1 : ANGERS SCO 1
DESCRIPTION:Salle : SALLE DU HARAS\nRésultat : 21 - 26
URL:https://www.handball-avrille.com/rencontre/2708
DTSTART;TZID=Europe/Paris:20250928T153000
DTEND;TZID=Europe/Paris:20250928T170000
LOCATION:SALLE DU HARAS
GEO:47.464760;-0.554070
X-APPLE-STRUCTURED-LOCATION;VALUE=URI;X-ADDRESS=SALLE DU HARAS;X-APPLE-RADI
 US=49;X-TITLE=:geo:47.464760,-0.554070
CATEGORIES:rencontre
END:VEVENT
BEGIN:VEVENT
UID:asa-handball/rencontre/2717
DTSTAMP:20260424T152301Z
SUMMARY:-12M1 : ANGERS HBC 1
DESCRIPTION:Salle : SALLE TABARLY\nRésultat : 12 - 45
URL:https://www.handball-avrille.com/rencontre/2717
DTSTART;TZID=Europe/Paris:20251004T154500
DTEND;TZID=Europe/Paris:20251004T171500
LOCATION:SALLE TABARLY
GEO:47.500830;-0.595560
X-APPLE-STRUCTURED-LOCATION;VALUE=URI;X-ADDRESS=SALLE TABARLY;X-APPLE-RADIU
 S=49;X-TITLE=:geo:47.500830,-0.595560
CATEGORIES:rencontre
END:VEVENT
BEGIN:VEVENT
UID:asa-handball/rencontre/2729
DTSTAMP:20260424T152301Z
SUMMARY:-12M1 : US JUVARDEIL 1
DESCRIPTION:Salle : GILBERT BONTEMPS\nRésultat : 16 - 17
URL:https://www.handball-avrille.com/rencontre/2729
DTSTART;TZID=Europe/Paris:20251011T120000
DTEND;TZID=Europe/Paris:20251011T133000
LOCATION:GILBERT BONTEMPS
GEO:47.655970;-0.499210
X-APPLE-STRUCTURED-LOCATION;VALUE=URI;X-ADDRESS=GILBERT BONTEMPS;X-APPLE-RA
 DIUS=49;X-TITLE=:geo:47.655970,-0.499210
CATEGORIES:rencontre
END:VEVENT
BEGIN:VEVENT
UID:asa-handball/rencontre/2936
DTSTAMP:20260424T152301Z
SUMMARY:-12M1 : AAEEC PONTS DE CE 2
DESCRIPTION:Salle : ESPACE LIGERIA\nRésultat : 13 - 42
URL:https://www.handball-avrille.com/rencontre/2936
DTSTART;TZID=Europe/Paris:20251018T163000
DTEND;TZID=Europe/Paris:20251018T180000
LOCATION:ESPACE LIGERIA
GEO:47.436660;-0.528880
X-APPLE-STRUCTURED-LOCATION;VALUE=URI;X-ADDRESS=ESPACE LIGERIA;X-APPLE-RADI
 US=49;X-TITLE=:geo:47.436660,-0.528880
CATEGORIES:rencontre
END:VEVENT
BEGIN:VEVENT
UID:asa-handball/rencontre/2823
DTSTAMP:20260424T152301Z
SUMMARY:-12M1 : AAEEC PONTS DE CE 1
DESCRIPTION:Salle : ESPACE LIGERIA\nRésultat : 27 - 34
URL:https://www.handball-avrille.com/rencontre/2823
DTSTART;TZID=Europe/Paris:20251109T101500
DTEND;TZID=Europe/Paris:20251109T114500
LOCATION:ESPACE LIGERIA
GEO:47.436660;-0.528880
X-APPLE-STRUCTURED-LOCATION;VALUE=URI;X-ADDRESS=ESPACE LIGERIA;X-APPLE-RADI
 US=49;X-TITLE=:geo:47.436660,-0.528880
CATEGORIES:rencontre
END:VEVENT
BEGIN:VEVENT
UID:asa-handball/rencontre/2831
DTSTAMP:20260424T152301Z
SUMMARY:-12M1 : UNION SAUMUR DOUE 1
DESCRIPTION:Salle : SALLE TABARLY\nRésultat : 35 - 19
URL:https://www.handball-avrille.com/rencontre/2831
DTSTART;TZID=Europe/Paris:20251116T130000
DTEND;TZID=Europe/Paris:20251116T143000
LOCATION:SALLE TABARLY
GEO:47.500830;-0.595560
X-APPLE-STRUCTURED-LOCATION;VALUE=URI;X-ADDRESS=SALLE TABARLY;X-APPLE-RADIU
 S=49;X-TITLE=:geo:47.500830,-0.595560
CATEGORIES:rencontre
END:VEVENT
BEGIN:VEVENT
UID:asa-handball/rencontre/2842
DTSTAMP:20260424T152301Z
SUMMARY:-12M1 : ANGERS SCO 1
DESCRIPTION:Salle : SALLE TABARLY\nRésultat : 29 - 24
URL:https://www.handball-avrille.com/rencontre/2842
DTSTART;TZID=Europe/Paris:20251122T133000
DTEND;TZID=Europe/Paris:20251122T150000
LOCATION:SALLE TABARLY
GEO:47.500830;-0.595560
X-APPLE-STRUCTURED-LOCATION;VALUE=URI;X-ADDRESS=SALLE TABARLY;X-APPLE-RADIU
 S=49;X-TITLE=:geo:47.500830,-0.595560
CATEGORIES:rencontre
END:VEVENT
BEGIN:VEVENT
UID:asa-handball/rencontre/2962
DTSTAMP:20260424T152301Z
SUMMARY:-12M1 : BEAUCOUZE HB 1
DESCRIPTION:Salle : SALLE TABARLY\nRésultat : 25 - 23
URL:https://www.handball-avrille.com/rencontre/2962
DTSTART;TZID=Europe/Paris:20251129T170000
DTEND;TZID=Europe/Paris:20251129T183000
LOCATION:SALLE TABARLY
CATEGORIES:rencontre
END:VEVENT
BEGIN:VEVENT
UID:asa-handball/rencontre/2846
DTSTAMP:20260424T152301Z
SUMMARY:-12M1 : ANGERS HBC 1
DESCRIPTION:Salle : MONTAIGNE\nRésultat : 37 - 23
URL:https://www.handball-avrille.com/rencontre/2846
DTSTART;TZID=Europe/Paris:20251207T133000
DTEND;TZID=Europe/Paris:20251207T150000
LOCATION:MONTAIGNE
GEO:47.470170;-0.532170
X-APPLE-STRUCTURED-LOCATION;VALUE=URI;X-ADDRESS=MONTAIGNE;X-APPLE-RADIUS=49
 ;X-TITLE=:geo:47.470170,-0.532170
CATEGORIES:rencontre
END:VEVENT
BEGIN:VEVENT
UID:asa-handball/rencontre/2857
DTSTAMP:20260424T152301Z
SUMMARY:-12M1 : US JUVARDEIL 1
DESCRIPTION:Salle : SALLE TABARLY\nRésultat : 26 - 25
URL:https://www.handball-avrille.com/rencontre/2857
DTSTART;TZID=Europe/Paris:20251213T150000
DTEND;TZID=Europe/Paris:20251213T163000
LOCATION:SALLE TABARLY
GEO:47.500830;-0.595560
X-APPLE-STRUCTURED-LOCATION;VALUE=URI;X-ADDRESS=SALLE TABARLY;X-APPLE-RADIU
 S=49;X-TITLE=:geo:47.500830,-0.595560
CATEGORIES:rencontre
END:VEVENT
BEGIN:VEVENT
UID:asa-handball/rencontre/3027
DTSTAMP:20260424T152301Z
SUMMARY:-12M1 : TRELAZE HB
DESCRIPTION:Salle : SALLE TABARLY\nRésultat : 29 - 29
URL:https://www.handball-avrille.com/rencontre/3027
DTSTART;TZID=Europe/Paris:20260117T170000
DTEND;TZID=Europe/Paris:20260117T183000
LOCATION:SALLE TABARLY
GEO:47.500830;-0.595560
X-APPLE-STRUCTURED-LOCATION;VALUE=URI;X-ADDRESS=SALLE TABARLY;X-APPLE-RADIU
 S=49;X-TITLE=:geo:47.500830,-0.595560
CATEGORIES:rencontre
END:VEVENT
BEGIN:VEVENT
UID:asa-handball/rencontre/3039
DTSTAMP:20260424T152301Z
SUMMARY:-12M1 : UNION SAUMUR DOUE 1
DESCRIPTION:Salle : RENE DRANN\nRésultat : 25 - 19
URL:https://www.handball-avrille.com/rencontre/3039
DTSTART;TZID=Europe/Paris:20260124T143000
DTEND;TZID=Europe/Paris:20260124T160000
LOCATION:RENE DRANN
GEO:47.191320;-0.273170
X-APPLE-STRUCTURED-LOCATION;VALUE=URI;X-ADDRESS=RENE DRANN;X-APPLE-RADIUS=4
 9;X-TITLE=:geo:47.191320,-0.273170
CATEGORIES:rencontre
END:VEVENT
BEGIN:VEVENT
UID:asa-handball/rencontre/3040
DTSTAMP:20260424T152301Z
SUMMARY:-12M1 : US JUVARDEIL 1
DESCRIPTION:Salle : SALLE TABARLY\nRésultat : 33 - 25
URL:https://www.handball-avrille.com/rencontre/3040
DTSTART;TZID=Europe/Paris:20260201T140000
DTEND;TZID=Europe/Paris:20260201T153000
LOCATION:SALLE TABARLY
GEO:47.500830;-0.595560
X-APPLE-STRUCTURED-LOCATION;VALUE=URI;X-ADDRESS=SALLE TABARLY;X-APPLE-RADIU
 S=49;X-TITLE=:geo:47.500830,-0.595560
CATEGORIES:rencontre
END:VEVENT
BEGIN:VEVENT
UID:asa-handball/rencontre/2985
DTSTAMP:20260424T152301Z
SUMMARY:-12M1 : US JUVARDEIL 1
DESCRIPTION:Salle : GILBERT BONTEMPS\nRésultat : 26 - 25
URL:https://www.handball-avrille.com/rencontre/2985
DTSTART;TZID=Europe/Paris:20260207T120000
DTEND;TZID=Europe/Paris:20260207T133000
LOCATION:GILBERT BONTEMPS
GEO:47.655970;-0.499210
X-APPLE-STRUCTURED-LOCATION;VALUE=URI;X-ADDRESS=GILBERT BONTEMPS;X-APPLE-RA
 DIUS=49;X-TITLE=:geo:47.655970,-0.499210
CATEGORIES:rencontre
END:VEVENT
BEGIN:VEVENT
UID:asa-handball/rencontre/3059
DTSTAMP:20260424T152301Z
SUMMARY:-12M1 : SEGRE HB 1
DESCRIPTION:Salle : SALLE TABARLY\nRésultat : 27 - 20
URL:https://www.handball-avrille.com/rencontre/3059
DTSTART;TZID=Europe/Paris:20260315T140000
DTEND;TZID=Europe/Paris:20260315T153000
LOCATION:SALLE TABARLY
GEO:47.500830;-0.595560
X-APPLE-STRUCTURED-LOCATION;VALUE=URI;X-ADDRESS=SALLE TABARLY;X-APPLE-RADIU
 S=49;X-TITLE=:geo:47.500830,-0.595560
CATEGORIES:rencontre
END:VEVENT
BEGIN:VEVENT
UID:asa-handball/rencontre/3062
DTSTAMP:20260424T152301Z
SUMMARY:-12M1 : ANGERS HBC 1
DESCRIPTION:Salle : MONTAIGNE\nRésultat : 26 - 26
URL:https://www.handball-avrille.com/rencontre/3062
DTSTART;TZID=Europe/Paris:20260321T143000
DTEND;TZID=Europe/Paris:20260321T160000
LOCATION:MONTAIGNE
GEO:47.470170;-0.532170
X-APPLE-STRUCTURED-LOCATION;VALUE=URI;X-ADDRESS=MONTAIGNE;X-APPLE-RADIUS=49
 ;X-TITLE=:geo:47.470170,-0.532170
CATEGORIES:rencontre
END:VEVENT
BEGIN:VEVENT
UID:asa-handball/rencontre/3074
DTSTAMP:20260424T152301Z
SUMMARY:-12M1 : TRELAZE HB
DESCRIPTION:Salle : GODUCIERE 1\nRésultat : 22 - 31
URL:https://www.handball-avrille.com/rencontre/3074
DTSTART;TZID=Europe/Paris:20260328T140000
DTEND;TZID=Europe/Paris:20260328T153000
LOCATION:GODUCIERE 1
GEO:47.447220;-0.499200
X-APPLE-STRUCTURED-LOCATION;VALUE=URI;X-ADDRESS=GODUCIERE 1;X-APPLE-RADIUS=
 49;X-TITLE=:geo:47.447220,-0.499200
CATEGORIES:rencontre
END:VEVENT
BEGIN:VEVENT
UID:asa-handball/rencontre/3075
DTSTAMP:20260424T152301Z
SUMMARY:-12M1 : UNION SAUMUR DOUE 1
DESCRIPTION:Salle : SALLE TABARLY
URL:https://www.handball-avrille.com/rencontre/3075
DTSTART;TZID=Europe/Paris:20260426T140000
DTEND;TZID=Europe/Paris:20260426T153000
LOCATION:SALLE TABARLY
GEO:47.500830;-0.595560
X-APPLE-STRUCTURED-LOCATION;VALUE=URI;X-ADDRESS=SALLE TABARLY;X-APPLE-RADIU
 S=49;X-TITLE=:geo:47.500830,-0.595560
CATEGORIES:rencontre
END:VEVENT
BEGIN:VEVENT
UID:asa-handball/rencontre/3079
DTSTAMP:20260424T152301Z
SUMMARY:-12M1 : US JUVARDEIL 1
DESCRIPTION:Salle : GILBERT BONTEMPS
URL:https://www.handball-avrille.com/rencontre/3079
DTSTART;TZID=Europe/Paris:20260502T140000
DTEND;TZID=Europe/Paris:20260502T153000
LOCATION:GILBERT BONTEMPS
GEO:47.655970;-0.499210
X-APPLE-STRUCTURED-LOCATION;VALUE=URI;X-ADDRESS=GILBERT BONTEMPS;X-APPLE-RA
 DIUS=49;X-TITLE=:geo:47.655970,-0.499210
CATEGORIES:rencontre
END:VEVENT
BEGIN:VEVENT
UID:asa-handball/rencontre/3083
DTSTAMP:20260424T152301Z
SUMMARY:-12M1 : SEGRE HB 1
DESCRIPTION:Salle : SALLE BERTRAND ROINE
URL:https://www.handball-avrille.com/rencontre/3083
DTSTART;TZID=Europe/Paris:20260509T150000
DTEND;TZID=Europe/Paris:20260509T163000
LOCATION:SALLE BERTRAND ROINE
CATEGORIES:rencontre
END:VEVENT
BEGIN:VEVENT
UID:asa-handball/rencontre/3085
DTSTAMP:20260424T152301Z
SUMMARY:-12M1 : ANGERS HBC 1
DESCRIPTION:Salle : SALLE TABARLY
URL:https://www.handball-avrille.com/rencontre/3085
DTSTART;TZID=Europe/Paris:20260531T130000
DTEND;TZID=Europe/Paris:20260531T143000
LOCATION:SALLE TABARLY
CATEGORIES:rencontre
END:VEVENT
END:VCALENDAR
