BEGIN:VCALENDAR
PRODID:-//eluceo/ical//2.0/EN
VERSION:2.0
CALSCALE:GREGORIAN
BEGIN:VEVENT
UID:asa-handball/rencontre/2701
DTSTAMP:20260421T130756Z
SUMMARY:SM1 : TRELAZE HB 1
DESCRIPTION:Salle : GODUCIERE 1\nRésultat : 37 - 37
URL:https://www.handball-avrille.com/rencontre/2701
DTSTART;TZID=Europe/Paris:20250920T200000
DTEND;TZID=Europe/Paris:20250920T213000
LOCATION:GODUCIERE 1
GEO:47.447220;-0.499200
X-APPLE-STRUCTURED-LOCATION;VALUE=URI;X-ADDRESS=GODUCIERE 1;X-APPLE-RADIUS=
 49;X-TITLE=:geo:47.447220,-0.499200
CATEGORIES:rencontre
END:VEVENT
BEGIN:VEVENT
UID:asa-handball/rencontre/2709
DTSTAMP:20260421T130756Z
SUMMARY:SM1 : HBC CHEMILLE 1
DESCRIPTION:Salle : SALLE TABARLY\nRésultat : 25 - 22
URL:https://www.handball-avrille.com/rencontre/2709
DTSTART;TZID=Europe/Paris:20250927T183000
DTEND;TZID=Europe/Paris:20250927T200000
LOCATION:SALLE TABARLY
GEO:47.500830;-0.595560
X-APPLE-STRUCTURED-LOCATION;VALUE=URI;X-ADDRESS=SALLE TABARLY;X-APPLE-RADIU
 S=49;X-TITLE=:geo:47.500830,-0.595560
CATEGORIES:rencontre
END:VEVENT
BEGIN:VEVENT
UID:asa-handball/rencontre/2718
DTSTAMP:20260421T130756Z
SUMMARY:SM1 : OHB STE GEMMES
DESCRIPTION:Salle : LES GRANDS JARDINS\nRésultat : 28 - 28
URL:https://www.handball-avrille.com/rencontre/2718
DTSTART;TZID=Europe/Paris:20251004T180000
DTEND;TZID=Europe/Paris:20251004T193000
LOCATION:LES GRANDS JARDINS
GEO:47.426910;-0.554760
X-APPLE-STRUCTURED-LOCATION;VALUE=URI;X-ADDRESS=LES GRANDS JARDINS;X-APPLE-
 RADIUS=49;X-TITLE=:geo:47.426910,-0.554760
CATEGORIES:rencontre
END:VEVENT
BEGIN:VEVENT
UID:asa-handball/rencontre/2723
DTSTAMP:20260421T130756Z
SUMMARY:SM1 : UNION SAUMUR DOUE 2
DESCRIPTION:Salle : SALLE TABARLY\nRésultat : 33 - 30
URL:https://www.handball-avrille.com/rencontre/2723
DTSTART;TZID=Europe/Paris:20251012T160000
DTEND;TZID=Europe/Paris:20251012T173000
LOCATION:SALLE TABARLY
GEO:47.500830;-0.595560
X-APPLE-STRUCTURED-LOCATION;VALUE=URI;X-ADDRESS=SALLE TABARLY;X-APPLE-RADIU
 S=49;X-TITLE=:geo:47.500830,-0.595560
CATEGORIES:rencontre
END:VEVENT
BEGIN:VEVENT
UID:asa-handball/rencontre/2937
DTSTAMP:20260421T130756Z
SUMMARY:SM1 : CLUB OMNISPORTS LUCHE PRINGE
DESCRIPTION:Salle : SALLE TABARLY\nRésultat : 48 - 20
URL:https://www.handball-avrille.com/rencontre/2937
DTSTART;TZID=Europe/Paris:20251019T110000
DTEND;TZID=Europe/Paris:20251019T123000
LOCATION:SALLE TABARLY
GEO:47.500830;-0.595560
X-APPLE-STRUCTURED-LOCATION;VALUE=URI;X-ADDRESS=SALLE TABARLY;X-APPLE-RADIU
 S=49;X-TITLE=:geo:47.500830,-0.595560
CATEGORIES:rencontre
END:VEVENT
BEGIN:VEVENT
UID:asa-handball/rencontre/2734
DTSTAMP:20260421T130756Z
SUMMARY:SM1 : CS LE LION D'ANGERS 2
DESCRIPTION:Salle : LA MARE AUX COQS\nRésultat : 27 - 39
URL:https://www.handball-avrille.com/rencontre/2734
DTSTART;TZID=Europe/Paris:20251108T210000
DTEND;TZID=Europe/Paris:20251108T223000
LOCATION:LA MARE AUX COQS
GEO:47.627590;-0.720020
X-APPLE-STRUCTURED-LOCATION;VALUE=URI;X-ADDRESS=LA MARE AUX COQS;X-APPLE-RA
 DIUS=49;X-TITLE=:geo:47.627590,-0.720020
CATEGORIES:rencontre
END:VEVENT
BEGIN:VEVENT
UID:asa-handball/rencontre/2967
DTSTAMP:20260421T130756Z
SUMMARY:SM1 : HBC CHEMILLE
DESCRIPTION:Salle : SALLE TABARLY\nRésultat : 41 - 13
URL:https://www.handball-avrille.com/rencontre/2967
DTSTART;TZID=Europe/Paris:20251116T143000
DTEND;TZID=Europe/Paris:20251116T160000
LOCATION:SALLE TABARLY
GEO:47.500830;-0.595560
X-APPLE-STRUCTURED-LOCATION;VALUE=URI;X-ADDRESS=SALLE TABARLY;X-APPLE-RADIU
 S=49;X-TITLE=:geo:47.500830,-0.595560
CATEGORIES:rencontre
END:VEVENT
BEGIN:VEVENT
UID:asa-handball/rencontre/2739
DTSTAMP:20260421T130756Z
SUMMARY:SM1 : US JUVARDEIL 1
DESCRIPTION:Salle : SALLE TABARLY\nRésultat : 44 - 28
URL:https://www.handball-avrille.com/rencontre/2739
DTSTART;TZID=Europe/Paris:20251122T210000
DTEND;TZID=Europe/Paris:20251122T223000
LOCATION:SALLE TABARLY
GEO:47.500830;-0.595560
X-APPLE-STRUCTURED-LOCATION;VALUE=URI;X-ADDRESS=SALLE TABARLY;X-APPLE-RADIU
 S=49;X-TITLE=:geo:47.500830,-0.595560
CATEGORIES:rencontre
END:VEVENT
BEGIN:VEVENT
UID:asa-handball/rencontre/2743
DTSTAMP:20260421T130756Z
SUMMARY:SM1 : BEAUCOUZE HB
DESCRIPTION:Salle : SPORT'CO\nRésultat : 21 - 41
URL:https://www.handball-avrille.com/rencontre/2743
DTSTART;TZID=Europe/Paris:20251130T160000
DTEND;TZID=Europe/Paris:20251130T173000
LOCATION:SPORT'CO
CATEGORIES:rencontre
END:VEVENT
BEGIN:VEVENT
UID:asa-handball/rencontre/2748
DTSTAMP:20260421T130756Z
SUMMARY:SM1 : AAEEC PONTS DE CE 2
DESCRIPTION:Salle : SALLE TABARLY\nRésultat : 29 - 35
URL:https://www.handball-avrille.com/rencontre/2748
DTSTART;TZID=Europe/Paris:20251207T160000
DTEND;TZID=Europe/Paris:20251207T173000
LOCATION:SALLE TABARLY
GEO:47.500830;-0.595560
X-APPLE-STRUCTURED-LOCATION;VALUE=URI;X-ADDRESS=SALLE TABARLY;X-APPLE-RADIU
 S=49;X-TITLE=:geo:47.500830,-0.595560
CATEGORIES:rencontre
END:VEVENT
BEGIN:VEVENT
UID:asa-handball/rencontre/2977
DTSTAMP:20260421T130756Z
SUMMARY:SM1 : US JUVARDEIL
DESCRIPTION:Salle : GYMNASE MUNICIPAL\nRésultat : 24 - 29
URL:https://www.handball-avrille.com/rencontre/2977
DTSTART;TZID=Europe/Paris:20251220T180000
DTEND;TZID=Europe/Paris:20251220T193000
LOCATION:GYMNASE MUNICIPAL
GEO:47.330000;0.417780
X-APPLE-STRUCTURED-LOCATION;VALUE=URI;X-ADDRESS=GYMNASE MUNICIPAL;X-APPLE-R
 ADIUS=49;X-TITLE=:geo:47.330000,0.417780
CATEGORIES:rencontre
END:VEVENT
BEGIN:VEVENT
UID:asa-handball/rencontre/2978
DTSTAMP:20260421T130756Z
SUMMARY:SM1 : AS AVRILLE HB
DESCRIPTION:Salle : GYMNASE MUNICIPAL\nRésultat : 28 - 20
URL:https://www.handball-avrille.com/rencontre/2978
DTSTART;TZID=Europe/Paris:20251220T193000
DTEND;TZID=Europe/Paris:20251220T210000
LOCATION:GYMNASE MUNICIPAL
GEO:47.330000;0.417780
X-APPLE-STRUCTURED-LOCATION;VALUE=URI;X-ADDRESS=GYMNASE MUNICIPAL;X-APPLE-R
 ADIUS=49;X-TITLE=:geo:47.330000,0.417780
CATEGORIES:rencontre
END:VEVENT
BEGIN:VEVENT
UID:asa-handball/rencontre/3016
DTSTAMP:20260421T130756Z
SUMMARY:SM1 : HBC DU LAC
DESCRIPTION:Salle : RENE GAUTIER\nRésultat : 30 - 27
URL:https://www.handball-avrille.com/rencontre/3016
DTSTART;TZID=Europe/Paris:20260110T210000
DTEND;TZID=Europe/Paris:20260110T223000
LOCATION:RENE GAUTIER
GEO:47.155730;-1.682320
X-APPLE-STRUCTURED-LOCATION;VALUE=URI;X-ADDRESS=RENE GAUTIER;X-APPLE-RADIUS
 =49;X-TITLE=:geo:47.155730,-1.682320
CATEGORIES:rencontre
END:VEVENT
BEGIN:VEVENT
UID:asa-handball/rencontre/2754
DTSTAMP:20260421T130756Z
SUMMARY:SM1 : ES AUBANCE
DESCRIPTION:Salle : MARIN A\nRésultat : 30 - 30
URL:https://www.handball-avrille.com/rencontre/2754
DTSTART;TZID=Europe/Paris:20260118T170000
DTEND;TZID=Europe/Paris:20260118T183000
LOCATION:MARIN A
GEO:47.353110;-0.461250
X-APPLE-STRUCTURED-LOCATION;VALUE=URI;X-ADDRESS=MARIN A;X-APPLE-RADIUS=49;X
 -TITLE=:geo:47.353110,-0.461250
CATEGORIES:rencontre
END:VEVENT
BEGIN:VEVENT
UID:asa-handball/rencontre/2757
DTSTAMP:20260421T130756Z
SUMMARY:SM1 : TRELAZE HB 1
DESCRIPTION:Salle : SALLE TABARLY\nRésultat : 42 - 28
URL:https://www.handball-avrille.com/rencontre/2757
DTSTART;TZID=Europe/Paris:20260124T183000
DTEND;TZID=Europe/Paris:20260124T200000
LOCATION:SALLE TABARLY
GEO:47.500830;-0.595560
X-APPLE-STRUCTURED-LOCATION;VALUE=URI;X-ADDRESS=SALLE TABARLY;X-APPLE-RADIU
 S=49;X-TITLE=:geo:47.500830,-0.595560
CATEGORIES:rencontre
END:VEVENT
BEGIN:VEVENT
UID:asa-handball/rencontre/2759
DTSTAMP:20260421T130756Z
SUMMARY:SM1 : HBC CHEMILLE 1
DESCRIPTION:Salle : GABARDIERE\nRésultat : 19 - 29
URL:https://www.handball-avrille.com/rencontre/2759
DTSTART;TZID=Europe/Paris:20260131T203000
DTEND;TZID=Europe/Paris:20260131T220000
LOCATION:GABARDIERE
GEO:47.215910;-0.726970
X-APPLE-STRUCTURED-LOCATION;VALUE=URI;X-ADDRESS=GABARDIERE;X-APPLE-RADIUS=4
 9;X-TITLE=:geo:47.215910,-0.726970
CATEGORIES:rencontre
END:VEVENT
BEGIN:VEVENT
UID:asa-handball/rencontre/3152
DTSTAMP:20260421T130756Z
SUMMARY:SM1 : HBC DURTAL
DESCRIPTION:Salle : DURTAL\nRésultat : 24 - 29
URL:https://www.handball-avrille.com/rencontre/3152
DTSTART;TZID=Europe/Paris:20260221T203000
DTEND;TZID=Europe/Paris:20260221T220000
LOCATION:DURTAL
GEO:47.676870;-0.235370
X-APPLE-STRUCTURED-LOCATION;VALUE=URI;X-ADDRESS=DURTAL;X-APPLE-RADIUS=49;X-
 TITLE=:geo:47.676870,-0.235370
CATEGORIES:rencontre
END:VEVENT
BEGIN:VEVENT
UID:asa-handball/rencontre/2764
DTSTAMP:20260421T130756Z
SUMMARY:SM1 : OHB STE GEMMES
DESCRIPTION:Salle : SALLE TABARLY\nRésultat : 38 - 27
URL:https://www.handball-avrille.com/rencontre/2764
DTSTART;TZID=Europe/Paris:20260308T160000
DTEND;TZID=Europe/Paris:20260308T173000
LOCATION:SALLE TABARLY
GEO:47.500830;-0.595560
X-APPLE-STRUCTURED-LOCATION;VALUE=URI;X-ADDRESS=SALLE TABARLY;X-APPLE-RADIU
 S=49;X-TITLE=:geo:47.500830,-0.595560
CATEGORIES:rencontre
END:VEVENT
BEGIN:VEVENT
UID:asa-handball/rencontre/2767
DTSTAMP:20260421T130756Z
SUMMARY:SM1 : UNION SAUMUR DOUE 2
DESCRIPTION:Salle : RENE DRANN\nRésultat : 25 - 32
URL:https://www.handball-avrille.com/rencontre/2767
DTSTART;TZID=Europe/Paris:20260315T160000
DTEND;TZID=Europe/Paris:20260315T173000
LOCATION:RENE DRANN
GEO:47.191320;-0.273170
X-APPLE-STRUCTURED-LOCATION;VALUE=URI;X-ADDRESS=RENE DRANN;X-APPLE-RADIUS=4
 9;X-TITLE=:geo:47.191320,-0.273170
CATEGORIES:rencontre
END:VEVENT
BEGIN:VEVENT
UID:asa-handball/rencontre/2770
DTSTAMP:20260421T130756Z
SUMMARY:SM1 : CS LE LION D'ANGERS 2
DESCRIPTION:Salle : SALLE TABARLY\nRésultat : 38 - 19
URL:https://www.handball-avrille.com/rencontre/2770
DTSTART;TZID=Europe/Paris:20260321T210000
DTEND;TZID=Europe/Paris:20260321T223000
LOCATION:SALLE TABARLY
GEO:47.500830;-0.595560
X-APPLE-STRUCTURED-LOCATION;VALUE=URI;X-ADDRESS=SALLE TABARLY;X-APPLE-RADIU
 S=49;X-TITLE=:geo:47.500830,-0.595560
CATEGORIES:rencontre
END:VEVENT
BEGIN:VEVENT
UID:asa-handball/rencontre/2774
DTSTAMP:20260421T130756Z
SUMMARY:SM1 : US JUVARDEIL 1
DESCRIPTION:Salle : GILBERT BONTEMPS\nRésultat : 24 - 40
URL:https://www.handball-avrille.com/rencontre/2774
DTSTART;TZID=Europe/Paris:20260328T203000
DTEND;TZID=Europe/Paris:20260328T220000
LOCATION:GILBERT BONTEMPS
GEO:47.655970;-0.499210
X-APPLE-STRUCTURED-LOCATION;VALUE=URI;X-ADDRESS=GILBERT BONTEMPS;X-APPLE-RA
 DIUS=49;X-TITLE=:geo:47.655970,-0.499210
CATEGORIES:rencontre
END:VEVENT
BEGIN:VEVENT
UID:asa-handball/rencontre/3155
DTSTAMP:20260421T130756Z
SUMMARY:SM1 : JS ALLONNES
DESCRIPTION:Salle : SALLE TABARLY\nRésultat : 30 - 25
URL:https://www.handball-avrille.com/rencontre/3155
DTSTART;TZID=Europe/Paris:20260405T110000
DTEND;TZID=Europe/Paris:20260405T123000
LOCATION:SALLE TABARLY
GEO:47.500830;-0.595560
X-APPLE-STRUCTURED-LOCATION;VALUE=URI;X-ADDRESS=SALLE TABARLY;X-APPLE-RADIU
 S=49;X-TITLE=:geo:47.500830,-0.595560
CATEGORIES:rencontre
END:VEVENT
BEGIN:VEVENT
UID:asa-handball/rencontre/3196
DTSTAMP:20260421T130756Z
SUMMARY:SM1 : HBC HERBLINOIS 1
DESCRIPTION:Salle : PIERRE DE COUBERTIN
URL:https://www.handball-avrille.com/rencontre/3196
DTSTART;TZID=Europe/Paris:20260426T143000
DTEND;TZID=Europe/Paris:20260426T160000
LOCATION:PIERRE DE COUBERTIN
GEO:47.526230;-0.607700
X-APPLE-STRUCTURED-LOCATION;VALUE=URI;X-ADDRESS=PIERRE DE COUBERTIN;X-APPLE
 -RADIUS=49;X-TITLE=:geo:47.526230,-0.607700
CATEGORIES:rencontre
END:VEVENT
BEGIN:VEVENT
UID:asa-handball/rencontre/2776
DTSTAMP:20260421T130756Z
SUMMARY:SM1 : BEAUCOUZE HB
DESCRIPTION:Salle : SALLE TABARLY
URL:https://www.handball-avrille.com/rencontre/2776
DTSTART;TZID=Europe/Paris:20260502T180000
DTEND;TZID=Europe/Paris:20260502T193000
LOCATION:SALLE TABARLY
GEO:47.500830;-0.595560
X-APPLE-STRUCTURED-LOCATION;VALUE=URI;X-ADDRESS=SALLE TABARLY;X-APPLE-RADIU
 S=49;X-TITLE=:geo:47.500830,-0.595560
CATEGORIES:rencontre
END:VEVENT
BEGIN:VEVENT
UID:asa-handball/rencontre/2777
DTSTAMP:20260421T130756Z
SUMMARY:SM1 : AAEEC PONTS DE CE 2
DESCRIPTION:Salle : ESPACE LIGERIA
URL:https://www.handball-avrille.com/rencontre/2777
DTSTART;TZID=Europe/Paris:20260510T170000
DTEND;TZID=Europe/Paris:20260510T183000
LOCATION:ESPACE LIGERIA
CATEGORIES:rencontre
END:VEVENT
BEGIN:VEVENT
UID:asa-handball/rencontre/2781
DTSTAMP:20260421T130756Z
SUMMARY:SM1 : ES AUBANCE
DESCRIPTION:Salle : SALLE TABARLY
URL:https://www.handball-avrille.com/rencontre/2781
DTSTART;TZID=Europe/Paris:20260530T200000
DTEND;TZID=Europe/Paris:20260530T213000
LOCATION:SALLE TABARLY
CATEGORIES:rencontre
END:VEVENT
END:VCALENDAR
