BEGIN:VCALENDAR
PRODID:-//eluceo/ical//2.0/EN
VERSION:2.0
CALSCALE:GREGORIAN
BEGIN:VEVENT
UID:asa-handball/rencontre/2785
DTSTAMP:20260424T165209Z
SUMMARY:SF2 : FANS LIGNE U21
DESCRIPTION:Salle : EDOUARD LANDRAIN - SALLE COSTANTINI\nRésultat : 28 - 1
 0
URL:https://www.handball-avrille.com/rencontre/2785
DTSTART;TZID=Europe/Paris:20250927T190000
DTEND;TZID=Europe/Paris:20250927T203000
LOCATION:EDOUARD LANDRAIN - SALLE COSTANTINI
GEO:47.401260;-1.450250
X-APPLE-STRUCTURED-LOCATION;VALUE=URI;X-ADDRESS=EDOUARD LANDRAIN - SALLE CO
 STANTINI;X-APPLE-RADIUS=49;X-TITLE=:geo:47.401260,-1.450250
CATEGORIES:rencontre
END:VEVENT
BEGIN:VEVENT
UID:asa-handball/rencontre/2787
DTSTAMP:20260424T165209Z
SUMMARY:SF2 : ANCENIS HB 2
DESCRIPTION:Salle : PRESSOIR ROUGE\nRésultat : 30 - 10
URL:https://www.handball-avrille.com/rencontre/2787
DTSTART;TZID=Europe/Paris:20251011T210000
DTEND;TZID=Europe/Paris:20251011T223000
LOCATION:PRESSOIR ROUGE
GEO:47.375160;-1.183950
X-APPLE-STRUCTURED-LOCATION;VALUE=URI;X-ADDRESS=PRESSOIR ROUGE;X-APPLE-RADI
 US=49;X-TITLE=:geo:47.375160,-1.183950
CATEGORIES:rencontre
END:VEVENT
BEGIN:VEVENT
UID:asa-handball/rencontre/2788
DTSTAMP:20260424T165209Z
SUMMARY:SF2 : ASCED RIAILLE
DESCRIPTION:Salle : SALLE DES ÉTANGS - COMPLEXE SPORTIF DE L'ERDRE\nRésul
 tat : 32 - 28
URL:https://www.handball-avrille.com/rencontre/2788
DTSTART;TZID=Europe/Paris:20251109T134500
DTEND;TZID=Europe/Paris:20251109T151500
LOCATION:SALLE DES ÉTANGS - COMPLEXE SPORTIF DE L'ERDRE
GEO:47.523270;-1.301060
X-APPLE-STRUCTURED-LOCATION;VALUE=URI;X-ADDRESS=SALLE DES ÉTANGS - COMPLEX
 E SPORTIF DE L'ERDRE;X-APPLE-RADIUS=49;X-TITLE=:geo:47.523270,-1.301060
CATEGORIES:rencontre
END:VEVENT
BEGIN:VEVENT
UID:asa-handball/rencontre/2960
DTSTAMP:20260424T165209Z
SUMMARY:SF2 : OHB STE GEMMES 2 (D1)
DESCRIPTION:Salle : SALLE TABARLY\nRésultat : 18 - 21
URL:https://www.handball-avrille.com/rencontre/2960
DTSTART;TZID=Europe/Paris:20251115T193000
DTEND;TZID=Europe/Paris:20251115T210000
LOCATION:SALLE TABARLY
GEO:47.500830;-0.595560
X-APPLE-STRUCTURED-LOCATION;VALUE=URI;X-ADDRESS=SALLE TABARLY;X-APPLE-RADIU
 S=49;X-TITLE=:geo:47.500830,-0.595560
CATEGORIES:rencontre
END:VEVENT
BEGIN:VEVENT
UID:asa-handball/rencontre/2789
DTSTAMP:20260424T165209Z
SUMMARY:SF2 : HBC MARSIEN
DESCRIPTION:Salle : AUDREY LE MORVAN\nRésultat : 25 - 16
URL:https://www.handball-avrille.com/rencontre/2789
DTSTART;TZID=Europe/Paris:20251123T150000
DTEND;TZID=Europe/Paris:20251123T163000
LOCATION:AUDREY LE MORVAN
GEO:47.358940;-1.414450
X-APPLE-STRUCTURED-LOCATION;VALUE=URI;X-ADDRESS=AUDREY LE MORVAN;X-APPLE-RA
 DIUS=49;X-TITLE=:geo:47.358940,-1.414450
CATEGORIES:rencontre
END:VEVENT
BEGIN:VEVENT
UID:asa-handball/rencontre/2790
DTSTAMP:20260424T165209Z
SUMMARY:SF2 : ES AUBANCE 2
DESCRIPTION:Salle : MARIN A\nRésultat : 17 - 15
URL:https://www.handball-avrille.com/rencontre/2790
DTSTART;TZID=Europe/Paris:20251130T150000
DTEND;TZID=Europe/Paris:20251130T163000
LOCATION:MARIN A
GEO:47.353110;-0.461250
X-APPLE-STRUCTURED-LOCATION;VALUE=URI;X-ADDRESS=MARIN A;X-APPLE-RADIUS=49;X
 -TITLE=:geo:47.353110,-0.461250
CATEGORIES:rencontre
END:VEVENT
BEGIN:VEVENT
UID:asa-handball/rencontre/2791
DTSTAMP:20260424T165209Z
SUMMARY:SF2 : BEAUCOUZE HB
DESCRIPTION:Salle : SALLE TABARLY\nRésultat : 11 - 23
URL:https://www.handball-avrille.com/rencontre/2791
DTSTART;TZID=Europe/Paris:20251206T183000
DTEND;TZID=Europe/Paris:20251206T200000
LOCATION:SALLE TABARLY
GEO:47.500830;-0.595560
X-APPLE-STRUCTURED-LOCATION;VALUE=URI;X-ADDRESS=SALLE TABARLY;X-APPLE-RADIU
 S=49;X-TITLE=:geo:47.500830,-0.595560
CATEGORIES:rencontre
END:VEVENT
BEGIN:VEVENT
UID:asa-handball/rencontre/2792
DTSTAMP:20260424T165209Z
SUMMARY:SF2 : ANGERS HBC
DESCRIPTION:Salle : MONTAIGNE\nRésultat : 27 - 24
URL:https://www.handball-avrille.com/rencontre/2792
DTSTART;TZID=Europe/Paris:20251213T193000
DTEND;TZID=Europe/Paris:20251213T210000
LOCATION:MONTAIGNE
GEO:47.470170;-0.532170
X-APPLE-STRUCTURED-LOCATION;VALUE=URI;X-ADDRESS=MONTAIGNE;X-APPLE-RADIUS=49
 ;X-TITLE=:geo:47.470170,-0.532170
CATEGORIES:rencontre
END:VEVENT
BEGIN:VEVENT
UID:asa-handball/rencontre/3024
DTSTAMP:20260424T165209Z
SUMMARY:SF2 : CS LE LION D'ANGERS U21
DESCRIPTION:Salle : LA MARE AUX COQS\nRésultat : 9 - 13
URL:https://www.handball-avrille.com/rencontre/3024
DTSTART;TZID=Europe/Paris:20260111T150000
DTEND;TZID=Europe/Paris:20260111T163000
LOCATION:LA MARE AUX COQS
GEO:47.627590;-0.720020
X-APPLE-STRUCTURED-LOCATION;VALUE=URI;X-ADDRESS=LA MARE AUX COQS;X-APPLE-RA
 DIUS=49;X-TITLE=:geo:47.627590,-0.720020
CATEGORIES:rencontre
END:VEVENT
BEGIN:VEVENT
UID:asa-handball/rencontre/3023
DTSTAMP:20260424T165209Z
SUMMARY:SF2 : CHOLET HB  (D2)
DESCRIPTION:Salle : RAMBOURG\nRésultat : 15 - 8
URL:https://www.handball-avrille.com/rencontre/3023
DTSTART;TZID=Europe/Paris:20260111T150000
DTEND;TZID=Europe/Paris:20260111T163000
LOCATION:RAMBOURG
GEO:47.066290;-0.884840
X-APPLE-STRUCTURED-LOCATION;VALUE=URI;X-ADDRESS=RAMBOURG;X-APPLE-RADIUS=49;
 X-TITLE=:geo:47.066290,-0.884840
CATEGORIES:rencontre
END:VEVENT
BEGIN:VEVENT
UID:asa-handball/rencontre/2793
DTSTAMP:20260424T165209Z
SUMMARY:SF2 : HBC MESANGER U21
DESCRIPTION:Salle : SALLE TABARLY\nRésultat : 24 - 32
URL:https://www.handball-avrille.com/rencontre/2793
DTSTART;TZID=Europe/Paris:20260117T203000
DTEND;TZID=Europe/Paris:20260117T220000
LOCATION:SALLE TABARLY
GEO:47.500830;-0.595560
X-APPLE-STRUCTURED-LOCATION;VALUE=URI;X-ADDRESS=SALLE TABARLY;X-APPLE-RADIU
 S=49;X-TITLE=:geo:47.500830,-0.595560
CATEGORIES:rencontre
END:VEVENT
BEGIN:VEVENT
UID:asa-handball/rencontre/2794
DTSTAMP:20260424T165209Z
SUMMARY:SF2 : FANS LIGNE U21
DESCRIPTION:Salle : SALLE TABARLY\nRésultat : 12 - 28
URL:https://www.handball-avrille.com/rencontre/2794
DTSTART;TZID=Europe/Paris:20260125T160000
DTEND;TZID=Europe/Paris:20260125T173000
LOCATION:SALLE TABARLY
GEO:47.500830;-0.595560
X-APPLE-STRUCTURED-LOCATION;VALUE=URI;X-ADDRESS=SALLE TABARLY;X-APPLE-RADIU
 S=49;X-TITLE=:geo:47.500830,-0.595560
CATEGORIES:rencontre
END:VEVENT
BEGIN:VEVENT
UID:asa-handball/rencontre/2796
DTSTAMP:20260424T165209Z
SUMMARY:SF2 : ANCENIS HB 2
DESCRIPTION:Salle : SALLE TABARLY\nRésultat : 23 - 16
URL:https://www.handball-avrille.com/rencontre/2796
DTSTART;TZID=Europe/Paris:20260207T203000
DTEND;TZID=Europe/Paris:20260207T220000
LOCATION:SALLE TABARLY
GEO:47.500830;-0.595560
X-APPLE-STRUCTURED-LOCATION;VALUE=URI;X-ADDRESS=SALLE TABARLY;X-APPLE-RADIU
 S=49;X-TITLE=:geo:47.500830,-0.595560
CATEGORIES:rencontre
END:VEVENT
BEGIN:VEVENT
UID:asa-handball/rencontre/3150
DTSTAMP:20260424T165209Z
SUMMARY:SF2 : UNION SAUMUR DOUE2 (D1)
DESCRIPTION:Salle : SALLE TABARLY\nRésultat : 20 - 0
URL:https://www.handball-avrille.com/rencontre/3150
DTSTART;TZID=Europe/Paris:20260214T183000
DTEND;TZID=Europe/Paris:20260214T200000
LOCATION:SALLE TABARLY
GEO:47.500830;-0.595560
X-APPLE-STRUCTURED-LOCATION;VALUE=URI;X-ADDRESS=SALLE TABARLY;X-APPLE-RADIU
 S=49;X-TITLE=:geo:47.500830,-0.595560
CATEGORIES:rencontre
STATUS:CANCELLED
END:VEVENT
BEGIN:VEVENT
UID:asa-handball/rencontre/2797
DTSTAMP:20260424T165209Z
SUMMARY:SF2 : ASCED RIAILLE
DESCRIPTION:Salle : SALLE TABARLY\nRésultat : 28 - 14
URL:https://www.handball-avrille.com/rencontre/2797
DTSTART;TZID=Europe/Paris:20260307T200000
DTEND;TZID=Europe/Paris:20260307T213000
LOCATION:SALLE TABARLY
GEO:47.500830;-0.595560
X-APPLE-STRUCTURED-LOCATION;VALUE=URI;X-ADDRESS=SALLE TABARLY;X-APPLE-RADIU
 S=49;X-TITLE=:geo:47.500830,-0.595560
CATEGORIES:rencontre
END:VEVENT
BEGIN:VEVENT
UID:asa-handball/rencontre/2798
DTSTAMP:20260424T165209Z
SUMMARY:SF2 : HBC MARSIEN
DESCRIPTION:Salle : SALLE TABARLY\nRésultat : 20 - 20
URL:https://www.handball-avrille.com/rencontre/2798
DTSTART;TZID=Europe/Paris:20260314T193000
DTEND;TZID=Europe/Paris:20260314T210000
LOCATION:SALLE TABARLY
GEO:47.500830;-0.595560
X-APPLE-STRUCTURED-LOCATION;VALUE=URI;X-ADDRESS=SALLE TABARLY;X-APPLE-RADIU
 S=49;X-TITLE=:geo:47.500830,-0.595560
CATEGORIES:rencontre
END:VEVENT
BEGIN:VEVENT
UID:asa-handball/rencontre/2799
DTSTAMP:20260424T165209Z
SUMMARY:SF2 : ES AUBANCE 2
DESCRIPTION:Salle : SALLE TABARLY\nRésultat : 21 - 13
URL:https://www.handball-avrille.com/rencontre/2799
DTSTART;TZID=Europe/Paris:20260322T160000
DTEND;TZID=Europe/Paris:20260322T173000
LOCATION:SALLE TABARLY
GEO:47.500830;-0.595560
X-APPLE-STRUCTURED-LOCATION;VALUE=URI;X-ADDRESS=SALLE TABARLY;X-APPLE-RADIU
 S=49;X-TITLE=:geo:47.500830,-0.595560
CATEGORIES:rencontre
END:VEVENT
BEGIN:VEVENT
UID:asa-handball/rencontre/2800
DTSTAMP:20260424T165209Z
SUMMARY:SF2 : BEAUCOUZE HB
DESCRIPTION:Salle : SPORT'CO\nRésultat : 21 - 20
URL:https://www.handball-avrille.com/rencontre/2800
DTSTART;TZID=Europe/Paris:20260328T180000
DTEND;TZID=Europe/Paris:20260328T193000
LOCATION:SPORT'CO
GEO:47.476800;-0.643240
X-APPLE-STRUCTURED-LOCATION;VALUE=URI;X-ADDRESS=SPORT'CO;X-APPLE-RADIUS=49;
 X-TITLE=:geo:47.476800,-0.643240
CATEGORIES:rencontre
END:VEVENT
BEGIN:VEVENT
UID:asa-handball/rencontre/3160
DTSTAMP:20260424T165209Z
SUMMARY:SF2 : AS AVRILLE HB 2
DESCRIPTION:Salle : CALONNA\nRésultat : 9 - 22
URL:https://www.handball-avrille.com/rencontre/3160
DTSTART;TZID=Europe/Paris:20260404T190000
DTEND;TZID=Europe/Paris:20260404T203000
LOCATION:CALONNA
GEO:47.348060;-0.758060
X-APPLE-STRUCTURED-LOCATION;VALUE=URI;X-ADDRESS=CALONNA;X-APPLE-RADIUS=49;X
 -TITLE=:geo:47.348060,-0.758060
CATEGORIES:rencontre
END:VEVENT
BEGIN:VEVENT
UID:asa-handball/rencontre/2801
DTSTAMP:20260424T165209Z
SUMMARY:SF2 : ANGERS HBC
DESCRIPTION:Salle : SALLE TABARLY
URL:https://www.handball-avrille.com/rencontre/2801
DTSTART;TZID=Europe/Paris:20260509T203000
DTEND;TZID=Europe/Paris:20260509T220000
LOCATION:SALLE TABARLY
CATEGORIES:rencontre
END:VEVENT
BEGIN:VEVENT
UID:asa-handball/rencontre/2802
DTSTAMP:20260424T165209Z
SUMMARY:SF2 : HBC MESANGER U21
DESCRIPTION:Salle : L'ETANG - MESANGER
URL:https://www.handball-avrille.com/rencontre/2802
DTSTART;TZID=Europe/Paris:20260530T183000
DTEND;TZID=Europe/Paris:20260530T200000
LOCATION:L'ETANG - MESANGER
CATEGORIES:rencontre
END:VEVENT
END:VCALENDAR
