BEGIN:VCALENDAR
PRODID:-//eluceo/ical//2.0/EN
VERSION:2.0
CALSCALE:GREGORIAN
BEGIN:VEVENT
UID:asa-handball/rencontre/2699
DTSTAMP:20260421T141829Z
SUMMARY:SF1 : STE LUCE/L
DESCRIPTION:Salle : SALLE TABARLY\nRésultat : 22 - 36
URL:https://www.handball-avrille.com/rencontre/2699
DTSTART;TZID=Europe/Paris:20250921T160000
DTEND;TZID=Europe/Paris:20250921T173000
LOCATION:SALLE TABARLY
GEO:47.500830;-0.595560
X-APPLE-STRUCTURED-LOCATION;VALUE=URI;X-ADDRESS=SALLE TABARLY;X-APPLE-RADIU
 S=49;X-TITLE=:geo:47.500830,-0.595560
CATEGORIES:rencontre
END:VEVENT
BEGIN:VEVENT
UID:asa-handball/rencontre/2713
DTSTAMP:20260421T141829Z
SUMMARY:SF1 : BAZOGE*HS U21
DESCRIPTION:Salle : SALLE TABARLY\nRésultat : 34 - 28
URL:https://www.handball-avrille.com/rencontre/2713
DTSTART;TZID=Europe/Paris:20250928T160000
DTEND;TZID=Europe/Paris:20250928T173000
LOCATION:SALLE TABARLY
GEO:47.500830;-0.595560
X-APPLE-STRUCTURED-LOCATION;VALUE=URI;X-ADDRESS=SALLE TABARLY;X-APPLE-RADIU
 S=49;X-TITLE=:geo:47.500830,-0.595560
CATEGORIES:rencontre
END:VEVENT
BEGIN:VEVENT
UID:asa-handball/rencontre/2714
DTSTAMP:20260421T141829Z
SUMMARY:SF1 : HERIC HB
DESCRIPTION:Salle : SALLE TABARLY\nRésultat : 22 - 23
URL:https://www.handball-avrille.com/rencontre/2714
DTSTART;TZID=Europe/Paris:20251004T190000
DTEND;TZID=Europe/Paris:20251004T203000
LOCATION:SALLE TABARLY
GEO:47.500830;-0.595560
X-APPLE-STRUCTURED-LOCATION;VALUE=URI;X-ADDRESS=SALLE TABARLY;X-APPLE-RADIU
 S=49;X-TITLE=:geo:47.500830,-0.595560
CATEGORIES:rencontre
END:VEVENT
BEGIN:VEVENT
UID:asa-handball/rencontre/2726
DTSTAMP:20260421T141829Z
SUMMARY:SF1 : CSC LE MANS
DESCRIPTION:Salle : MAROC HUCHEPIE\nRésultat : 25 - 25
URL:https://www.handball-avrille.com/rencontre/2726
DTSTART;TZID=Europe/Paris:20251011T190000
DTEND;TZID=Europe/Paris:20251011T203000
LOCATION:MAROC HUCHEPIE
GEO:47.968890;0.199720
X-APPLE-STRUCTURED-LOCATION;VALUE=URI;X-ADDRESS=MAROC HUCHEPIE;X-APPLE-RADI
 US=49;X-TITLE=:geo:47.968890,0.199720
CATEGORIES:rencontre
END:VEVENT
BEGIN:VEVENT
UID:asa-handball/rencontre/2803
DTSTAMP:20260421T141829Z
SUMMARY:SF1 : US JUVARDEIL
DESCRIPTION:Salle : GILBERT BONTEMPS\nRésultat : 23 - 32
URL:https://www.handball-avrille.com/rencontre/2803
DTSTART;TZID=Europe/Paris:20251019T150000
DTEND;TZID=Europe/Paris:20251019T163000
LOCATION:GILBERT BONTEMPS
GEO:47.655970;-0.499210
X-APPLE-STRUCTURED-LOCATION;VALUE=URI;X-ADDRESS=GILBERT BONTEMPS;X-APPLE-RA
 DIUS=49;X-TITLE=:geo:47.655970,-0.499210
CATEGORIES:rencontre
END:VEVENT
BEGIN:VEVENT
UID:asa-handball/rencontre/2733
DTSTAMP:20260421T141829Z
SUMMARY:SF1 : US LAVALLOISE
DESCRIPTION:Salle : SALLE TABARLY\nRésultat : 31 - 23
URL:https://www.handball-avrille.com/rencontre/2733
DTSTART;TZID=Europe/Paris:20251108T193000
DTEND;TZID=Europe/Paris:20251108T210000
LOCATION:SALLE TABARLY
GEO:47.500830;-0.595560
X-APPLE-STRUCTURED-LOCATION;VALUE=URI;X-ADDRESS=SALLE TABARLY;X-APPLE-RADIU
 S=49;X-TITLE=:geo:47.500830,-0.595560
CATEGORIES:rencontre
END:VEVENT
BEGIN:VEVENT
UID:asa-handball/rencontre/2966
DTSTAMP:20260421T141829Z
SUMMARY:SF1 : UNION SUD MAYENNE
DESCRIPTION:Salle : SALLE TABARLY\nRésultat : 30 - 31
URL:https://www.handball-avrille.com/rencontre/2966
DTSTART;TZID=Europe/Paris:20251116T163000
DTEND;TZID=Europe/Paris:20251116T180000
LOCATION:SALLE TABARLY
GEO:47.500830;-0.595560
X-APPLE-STRUCTURED-LOCATION;VALUE=URI;X-ADDRESS=SALLE TABARLY;X-APPLE-RADIU
 S=49;X-TITLE=:geo:47.500830,-0.595560
CATEGORIES:rencontre
END:VEVENT
BEGIN:VEVENT
UID:asa-handball/rencontre/2742
DTSTAMP:20260421T141829Z
SUMMARY:SF1 : SUD MAYENNE 1
DESCRIPTION:Salle : LE PRESSOIRAS\nRésultat : 25 - 19
URL:https://www.handball-avrille.com/rencontre/2742
DTSTART;TZID=Europe/Paris:20251123T160000
DTEND;TZID=Europe/Paris:20251123T173000
LOCATION:LE PRESSOIRAS
GEO:47.830200;-0.716590
X-APPLE-STRUCTURED-LOCATION;VALUE=URI;X-ADDRESS=LE PRESSOIRAS;X-APPLE-RADIU
 S=49;X-TITLE=:geo:47.830200,-0.716590
CATEGORIES:rencontre
END:VEVENT
BEGIN:VEVENT
UID:asa-handball/rencontre/2744
DTSTAMP:20260421T141829Z
SUMMARY:SF1 : L'HUISSERIE 1
DESCRIPTION:Salle : SALLE TABARLY\nRésultat : 34 - 26
URL:https://www.handball-avrille.com/rencontre/2744
DTSTART;TZID=Europe/Paris:20251129T190000
DTEND;TZID=Europe/Paris:20251129T203000
LOCATION:SALLE TABARLY
GEO:47.500830;-0.595560
X-APPLE-STRUCTURED-LOCATION;VALUE=URI;X-ADDRESS=SALLE TABARLY;X-APPLE-RADIU
 S=49;X-TITLE=:geo:47.500830,-0.595560
CATEGORIES:rencontre
END:VEVENT
BEGIN:VEVENT
UID:asa-handball/rencontre/2752
DTSTAMP:20260421T141829Z
SUMMARY:SF1 : SEGRE HB
DESCRIPTION:Salle : SALLE BERTRAND ROINE\nRésultat : 22 - 27
URL:https://www.handball-avrille.com/rencontre/2752
DTSTART;TZID=Europe/Paris:20251213T190000
DTEND;TZID=Europe/Paris:20251213T203000
LOCATION:SALLE BERTRAND ROINE
GEO:47.690510;-0.875040
X-APPLE-STRUCTURED-LOCATION;VALUE=URI;X-ADDRESS=SALLE BERTRAND ROINE;X-APPL
 E-RADIUS=49;X-TITLE=:geo:47.690510,-0.875040
CATEGORIES:rencontre
END:VEVENT
BEGIN:VEVENT
UID:asa-handball/rencontre/2976
DTSTAMP:20260421T141829Z
SUMMARY:SF1 : ENTENTE CONNERRE VIBRAYE 72
DESCRIPTION:Salle : SALLE TABARLY\nRésultat : 21 - 26
URL:https://www.handball-avrille.com/rencontre/2976
DTSTART;TZID=Europe/Paris:20251220T183000
DTEND;TZID=Europe/Paris:20251220T200000
LOCATION:SALLE TABARLY
GEO:47.500830;-0.595560
X-APPLE-STRUCTURED-LOCATION;VALUE=URI;X-ADDRESS=SALLE TABARLY;X-APPLE-RADIU
 S=49;X-TITLE=:geo:47.500830,-0.595560
CATEGORIES:rencontre
END:VEVENT
BEGIN:VEVENT
UID:asa-handball/rencontre/3019
DTSTAMP:20260421T141829Z
SUMMARY:SF1 : AS AVRILLE HB 1
DESCRIPTION:Salle : JEAN MONNET\nRésultat : 23 - 18
URL:https://www.handball-avrille.com/rencontre/3019
DTSTART;TZID=Europe/Paris:20260111T150000
DTEND;TZID=Europe/Paris:20260111T163000
LOCATION:JEAN MONNET
GEO:47.467200;-0.601160
X-APPLE-STRUCTURED-LOCATION;VALUE=URI;X-ADDRESS=JEAN MONNET;X-APPLE-RADIUS=
 49;X-TITLE=:geo:47.467200,-0.601160
CATEGORIES:rencontre
END:VEVENT
BEGIN:VEVENT
UID:asa-handball/rencontre/3018
DTSTAMP:20260421T141829Z
SUMMARY:SF1 : ANGERS LAC DE MAINE 2 (D2)
DESCRIPTION:Salle : JEAN MONNET\nRésultat : 16 - 23
URL:https://www.handball-avrille.com/rencontre/3018
DTSTART;TZID=Europe/Paris:20260111T150000
DTEND;TZID=Europe/Paris:20260111T163000
LOCATION:JEAN MONNET
GEO:47.467200;-0.601160
X-APPLE-STRUCTURED-LOCATION;VALUE=URI;X-ADDRESS=JEAN MONNET;X-APPLE-RADIUS=
 49;X-TITLE=:geo:47.467200,-0.601160
CATEGORIES:rencontre
END:VEVENT
BEGIN:VEVENT
UID:asa-handball/rencontre/2753
DTSTAMP:20260421T141829Z
SUMMARY:SF1 : US JUVARDEIL
DESCRIPTION:Salle : SALLE TABARLY\nRésultat : 29 - 27
URL:https://www.handball-avrille.com/rencontre/2753
DTSTART;TZID=Europe/Paris:20260117T183000
DTEND;TZID=Europe/Paris:20260117T200000
LOCATION:SALLE TABARLY
GEO:47.500830;-0.595560
X-APPLE-STRUCTURED-LOCATION;VALUE=URI;X-ADDRESS=SALLE TABARLY;X-APPLE-RADIU
 S=49;X-TITLE=:geo:47.500830,-0.595560
CATEGORIES:rencontre
END:VEVENT
BEGIN:VEVENT
UID:asa-handball/rencontre/2758
DTSTAMP:20260421T141829Z
SUMMARY:SF1 : STE LUCE/L
DESCRIPTION:Salle : ERIC TABARLY\nRésultat : 31 - 26
URL:https://www.handball-avrille.com/rencontre/2758
DTSTART;TZID=Europe/Paris:20260124T210000
DTEND;TZID=Europe/Paris:20260124T223000
LOCATION:ERIC TABARLY
GEO:47.258330;-1.490280
X-APPLE-STRUCTURED-LOCATION;VALUE=URI;X-ADDRESS=ERIC TABARLY;X-APPLE-RADIUS
 =49;X-TITLE=:geo:47.258330,-1.490280
CATEGORIES:rencontre
END:VEVENT
BEGIN:VEVENT
UID:asa-handball/rencontre/2760
DTSTAMP:20260421T141829Z
SUMMARY:SF1 : BAZOGE*HS U21
DESCRIPTION:Salle : ERNEST CHEVREUIL\nRésultat : 31 - 22
URL:https://www.handball-avrille.com/rencontre/2760
DTSTART;TZID=Europe/Paris:20260131T210000
DTEND;TZID=Europe/Paris:20260131T223000
LOCATION:ERNEST CHEVREUIL
GEO:48.192120;-0.129800
X-APPLE-STRUCTURED-LOCATION;VALUE=URI;X-ADDRESS=ERNEST CHEVREUIL;X-APPLE-RA
 DIUS=49;X-TITLE=:geo:48.192120,-0.129800
CATEGORIES:rencontre
END:VEVENT
BEGIN:VEVENT
UID:asa-handball/rencontre/2762
DTSTAMP:20260421T141829Z
SUMMARY:SF1 : HERIC HB
DESCRIPTION:Salle : GYMNASE DU COLLEGE\nRésultat : 20 - 20
URL:https://www.handball-avrille.com/rencontre/2762
DTSTART;TZID=Europe/Paris:20260207T190000
DTEND;TZID=Europe/Paris:20260207T203000
LOCATION:GYMNASE DU COLLEGE
GEO:47.404400;-1.648370
X-APPLE-STRUCTURED-LOCATION;VALUE=URI;X-ADDRESS=GYMNASE DU COLLEGE;X-APPLE-
 RADIUS=49;X-TITLE=:geo:47.404400,-1.648370
CATEGORIES:rencontre
END:VEVENT
BEGIN:VEVENT
UID:asa-handball/rencontre/3151
DTSTAMP:20260421T141829Z
SUMMARY:SF1 : OHB STE GEMMES 2 (D1)
DESCRIPTION:Salle : LES GRANDS JARDINS\nRésultat : 31 - 34
URL:https://www.handball-avrille.com/rencontre/3151
DTSTART;TZID=Europe/Paris:20260215T140000
DTEND;TZID=Europe/Paris:20260215T153000
LOCATION:LES GRANDS JARDINS
GEO:47.426910;-0.554760
X-APPLE-STRUCTURED-LOCATION;VALUE=URI;X-ADDRESS=LES GRANDS JARDINS;X-APPLE-
 RADIUS=49;X-TITLE=:geo:47.426910,-0.554760
CATEGORIES:rencontre
END:VEVENT
BEGIN:VEVENT
UID:asa-handball/rencontre/2765
DTSTAMP:20260421T141829Z
SUMMARY:SF1 : CSC LE MANS
DESCRIPTION:Salle : SALLE TABARLY\nRésultat : 27 - 26
URL:https://www.handball-avrille.com/rencontre/2765
DTSTART;TZID=Europe/Paris:20260308T140000
DTEND;TZID=Europe/Paris:20260308T153000
LOCATION:SALLE TABARLY
GEO:47.500830;-0.595560
X-APPLE-STRUCTURED-LOCATION;VALUE=URI;X-ADDRESS=SALLE TABARLY;X-APPLE-RADIU
 S=49;X-TITLE=:geo:47.500830,-0.595560
CATEGORIES:rencontre
END:VEVENT
BEGIN:VEVENT
UID:asa-handball/rencontre/2768
DTSTAMP:20260421T141829Z
SUMMARY:SF1 : US LAVALLOISE
DESCRIPTION:Salle : CONSTANT LAISIS\nRésultat : 40 - 37
URL:https://www.handball-avrille.com/rencontre/2768
DTSTART;TZID=Europe/Paris:20260315T160000
DTEND;TZID=Europe/Paris:20260315T173000
LOCATION:CONSTANT LAISIS
GEO:48.066110;-0.786940
X-APPLE-STRUCTURED-LOCATION;VALUE=URI;X-ADDRESS=CONSTANT LAISIS;X-APPLE-RAD
 IUS=49;X-TITLE=:geo:48.066110,-0.786940
CATEGORIES:rencontre
END:VEVENT
BEGIN:VEVENT
UID:asa-handball/rencontre/2771
DTSTAMP:20260421T141829Z
SUMMARY:SF1 : SUD MAYENNE 1
DESCRIPTION:Salle : SALLE TABARLY\nRésultat : 27 - 37
URL:https://www.handball-avrille.com/rencontre/2771
DTSTART;TZID=Europe/Paris:20260321T190000
DTEND;TZID=Europe/Paris:20260321T203000
LOCATION:SALLE TABARLY
GEO:47.500830;-0.595560
X-APPLE-STRUCTURED-LOCATION;VALUE=URI;X-ADDRESS=SALLE TABARLY;X-APPLE-RADIU
 S=49;X-TITLE=:geo:47.500830,-0.595560
CATEGORIES:rencontre
END:VEVENT
BEGIN:VEVENT
UID:asa-handball/rencontre/2773
DTSTAMP:20260421T141829Z
SUMMARY:SF1 : L'HUISSERIE 1
DESCRIPTION:Salle : COMPLEXE SPORTIF SALLE 2000\nRésultat : 30 - 27
URL:https://www.handball-avrille.com/rencontre/2773
DTSTART;TZID=Europe/Paris:20260328T210000
DTEND;TZID=Europe/Paris:20260328T223000
LOCATION:COMPLEXE SPORTIF SALLE 2000
GEO:48.019370;-0.758440
X-APPLE-STRUCTURED-LOCATION;VALUE=URI;X-ADDRESS=COMPLEXE SPORTIF SALLE 2000
 ;X-APPLE-RADIUS=49;X-TITLE=:geo:48.019370,-0.758440
CATEGORIES:rencontre
END:VEVENT
BEGIN:VEVENT
UID:asa-handball/rencontre/3156
DTSTAMP:20260421T141829Z
SUMMARY:SF1 : AS AVRILLE HB 1 (HON REG)
DESCRIPTION:Salle : MONTAIGNE\nRésultat : 21 - 19
URL:https://www.handball-avrille.com/rencontre/3156
DTSTART;TZID=Europe/Paris:20260404T190000
DTEND;TZID=Europe/Paris:20260404T203000
LOCATION:MONTAIGNE
GEO:47.470170;-0.532170
X-APPLE-STRUCTURED-LOCATION;VALUE=URI;X-ADDRESS=MONTAIGNE;X-APPLE-RADIUS=49
 ;X-TITLE=:geo:47.470170,-0.532170
CATEGORIES:rencontre
END:VEVENT
BEGIN:VEVENT
UID:asa-handball/rencontre/2778
DTSTAMP:20260421T141829Z
SUMMARY:SF1 : SEGRE HB
DESCRIPTION:Salle : SALLE TABARLY
URL:https://www.handball-avrille.com/rencontre/2778
DTSTART;TZID=Europe/Paris:20260509T183000
DTEND;TZID=Europe/Paris:20260509T200000
LOCATION:SALLE TABARLY
CATEGORIES:rencontre
END:VEVENT
BEGIN:VEVENT
UID:asa-handball/rencontre/2782
DTSTAMP:20260421T141829Z
SUMMARY:SF1 : US JUVARDEIL
DESCRIPTION:Salle : GILBERT BONTEMPS
URL:https://www.handball-avrille.com/rencontre/2782
DTSTART;TZID=Europe/Paris:20260530T183000
DTEND;TZID=Europe/Paris:20260530T200000
LOCATION:GILBERT BONTEMPS
CATEGORIES:rencontre
END:VEVENT
END:VCALENDAR
