BEGIN:VCALENDAR
PRODID:-//eluceo/ical//2.0/EN
VERSION:2.0
CALSCALE:GREGORIAN
BEGIN:VEVENT
UID:asa-handball/rencontre/2697
DTSTAMP:20260424T165146Z
SUMMARY:-19M : AAEEC PONTS DE CE 1
DESCRIPTION:Salle : SALLE TABARLY\nRésultat : 17 - 45
URL:https://www.handball-avrille.com/rencontre/2697
DTSTART;TZID=Europe/Paris:20250920T153000
DTEND;TZID=Europe/Paris:20250920T170000
LOCATION:SALLE TABARLY
GEO:47.500830;-0.595560
X-APPLE-STRUCTURED-LOCATION;VALUE=URI;X-ADDRESS=SALLE TABARLY;X-APPLE-RADIU
 S=49;X-TITLE=:geo:47.500830,-0.595560
CATEGORIES:rencontre
END:VEVENT
BEGIN:VEVENT
UID:asa-handball/rencontre/2705
DTSTAMP:20260424T165146Z
SUMMARY:-19M : BEAUCOUZE HB
DESCRIPTION:Salle : SPORT'CO\nRésultat : 33 - 34
URL:https://www.handball-avrille.com/rencontre/2705
DTSTART;TZID=Europe/Paris:20250928T140000
DTEND;TZID=Europe/Paris:20250928T153000
LOCATION:SPORT'CO
GEO:47.476800;-0.643240
X-APPLE-STRUCTURED-LOCATION;VALUE=URI;X-ADDRESS=SPORT'CO;X-APPLE-RADIUS=49;
 X-TITLE=:geo:47.476800,-0.643240
CATEGORIES:rencontre
END:VEVENT
BEGIN:VEVENT
UID:asa-handball/rencontre/2715
DTSTAMP:20260424T165146Z
SUMMARY:-19M : ANGERS SCO
DESCRIPTION:Salle : SALLE TABARLY\nRésultat : 46 - 29
URL:https://www.handball-avrille.com/rencontre/2715
DTSTART;TZID=Europe/Paris:20251004T134500
DTEND;TZID=Europe/Paris:20251004T151500
LOCATION:SALLE TABARLY
GEO:47.500830;-0.595560
X-APPLE-STRUCTURED-LOCATION;VALUE=URI;X-ADDRESS=SALLE TABARLY;X-APPLE-RADIU
 S=49;X-TITLE=:geo:47.500830,-0.595560
CATEGORIES:rencontre
END:VEVENT
BEGIN:VEVENT
UID:asa-handball/rencontre/2728
DTSTAMP:20260424T165146Z
SUMMARY:-19M : SEGRE HB
DESCRIPTION:Salle : SALLE BERTRAND ROINE\nRésultat : 49 - 28
URL:https://www.handball-avrille.com/rencontre/2728
DTSTART;TZID=Europe/Paris:20251011T190000
DTEND;TZID=Europe/Paris:20251011T203000
LOCATION:SALLE BERTRAND ROINE
GEO:47.690510;-0.875040
X-APPLE-STRUCTURED-LOCATION;VALUE=URI;X-ADDRESS=SALLE BERTRAND ROINE;X-APPL
 E-RADIUS=49;X-TITLE=:geo:47.690510,-0.875040
CATEGORIES:rencontre
END:VEVENT
BEGIN:VEVENT
UID:asa-handball/rencontre/2732
DTSTAMP:20260424T165146Z
SUMMARY:-19M : US JUVARDEIL
DESCRIPTION:Salle : SALLE TABARLY\nRésultat : 35 - 36
URL:https://www.handball-avrille.com/rencontre/2732
DTSTART;TZID=Europe/Paris:20251109T160000
DTEND;TZID=Europe/Paris:20251109T173000
LOCATION:SALLE TABARLY
GEO:47.500830;-0.595560
X-APPLE-STRUCTURED-LOCATION;VALUE=URI;X-ADDRESS=SALLE TABARLY;X-APPLE-RADIU
 S=49;X-TITLE=:geo:47.500830,-0.595560
CATEGORIES:rencontre
END:VEVENT
BEGIN:VEVENT
UID:asa-handball/rencontre/2943
DTSTAMP:20260424T165146Z
SUMMARY:-19M : U19M49E-CS NOYANT*OMBREE
DESCRIPTION:Salle : LEO LAGRANGE\nRésultat : 21 - 42
URL:https://www.handball-avrille.com/rencontre/2943
DTSTART;TZID=Europe/Paris:20251115T180000
DTEND;TZID=Europe/Paris:20251115T193000
LOCATION:LEO LAGRANGE
GEO:47.705000;-0.960280
X-APPLE-STRUCTURED-LOCATION;VALUE=URI;X-ADDRESS=LEO LAGRANGE;X-APPLE-RADIUS
 =49;X-TITLE=:geo:47.705000,-0.960280
CATEGORIES:rencontre
END:VEVENT
BEGIN:VEVENT
UID:asa-handball/rencontre/2740
DTSTAMP:20260424T165146Z
SUMMARY:-19M : ANGERS HBC
DESCRIPTION:Salle : SALLE TABARLY\nRésultat : 32 - 32
URL:https://www.handball-avrille.com/rencontre/2740
DTSTART;TZID=Europe/Paris:20251122T170000
DTEND;TZID=Europe/Paris:20251122T183000
LOCATION:SALLE TABARLY
GEO:47.500830;-0.595560
X-APPLE-STRUCTURED-LOCATION;VALUE=URI;X-ADDRESS=SALLE TABARLY;X-APPLE-RADIU
 S=49;X-TITLE=:geo:47.500830,-0.595560
CATEGORIES:rencontre
END:VEVENT
BEGIN:VEVENT
UID:asa-handball/rencontre/2973
DTSTAMP:20260424T165146Z
SUMMARY:-19M : ANGERS HBC
DESCRIPTION:Salle : SALLE TABARLY\nRésultat : 31 - 32
URL:https://www.handball-avrille.com/rencontre/2973
DTSTART;TZID=Europe/Paris:20251221T103000
DTEND;TZID=Europe/Paris:20251221T120000
LOCATION:SALLE TABARLY
GEO:47.500830;-0.595560
X-APPLE-STRUCTURED-LOCATION;VALUE=URI;X-ADDRESS=SALLE TABARLY;X-APPLE-RADIU
 S=49;X-TITLE=:geo:47.500830,-0.595560
CATEGORIES:rencontre
END:VEVENT
BEGIN:VEVENT
UID:asa-handball/rencontre/2988
DTSTAMP:20260424T165146Z
SUMMARY:-19M : LA FLECHE HANDBALL 1
DESCRIPTION:Salle : SALLE TABARLY\nRésultat : 23 - 32
URL:https://www.handball-avrille.com/rencontre/2988
DTSTART;TZID=Europe/Paris:20260111T140000
DTEND;TZID=Europe/Paris:20260111T153000
LOCATION:SALLE TABARLY
GEO:47.500830;-0.595560
X-APPLE-STRUCTURED-LOCATION;VALUE=URI;X-ADDRESS=SALLE TABARLY;X-APPLE-RADIU
 S=49;X-TITLE=:geo:47.500830,-0.595560
CATEGORIES:rencontre
END:VEVENT
BEGIN:VEVENT
UID:asa-handball/rencontre/2991
DTSTAMP:20260424T165146Z
SUMMARY:-19M : U19M62-C-VSFERTOIS*ECV72
DESCRIPTION:Salle : DANIEL COSTANTINI\nRésultat : 31 - 39
URL:https://www.handball-avrille.com/rencontre/2991
DTSTART;TZID=Europe/Paris:20260117T190000
DTEND;TZID=Europe/Paris:20260117T203000
LOCATION:DANIEL COSTANTINI
GEO:48.068260;0.731730
X-APPLE-STRUCTURED-LOCATION;VALUE=URI;X-ADDRESS=DANIEL COSTANTINI;X-APPLE-R
 ADIUS=49;X-TITLE=:geo:48.068260,0.731730
CATEGORIES:rencontre
END:VEVENT
BEGIN:VEVENT
UID:asa-handball/rencontre/2995
DTSTAMP:20260424T165146Z
SUMMARY:-19M : U19M53-E-AMBRIERES/MAYENNE
DESCRIPTION:Salle : SALLE TABARLY\nRésultat : 33 - 30
URL:https://www.handball-avrille.com/rencontre/2995
DTSTART;TZID=Europe/Paris:20260131T170000
DTEND;TZID=Europe/Paris:20260131T183000
LOCATION:SALLE TABARLY
GEO:47.500830;-0.595560
X-APPLE-STRUCTURED-LOCATION;VALUE=URI;X-ADDRESS=SALLE TABARLY;X-APPLE-RADIU
 S=49;X-TITLE=:geo:47.500830,-0.595560
CATEGORIES:rencontre
END:VEVENT
BEGIN:VEVENT
UID:asa-handball/rencontre/2997
DTSTAMP:20260424T165146Z
SUMMARY:-19M : U19M62-C-1 HCB*HCPS
DESCRIPTION:Salle : SALLE TABARLY\nRésultat : 30 - 40
URL:https://www.handball-avrille.com/rencontre/2997
DTSTART;TZID=Europe/Paris:20260207T183000
DTEND;TZID=Europe/Paris:20260207T200000
LOCATION:SALLE TABARLY
GEO:47.500830;-0.595560
X-APPLE-STRUCTURED-LOCATION;VALUE=URI;X-ADDRESS=SALLE TABARLY;X-APPLE-RADIU
 S=49;X-TITLE=:geo:47.500830,-0.595560
CATEGORIES:rencontre
END:VEVENT
BEGIN:VEVENT
UID:asa-handball/rencontre/2999
DTSTAMP:20260424T165146Z
SUMMARY:-19M : ANGERS SCO
DESCRIPTION:Salle : SALLE DU HARAS\nRésultat : 35 - 35
URL:https://www.handball-avrille.com/rencontre/2999
DTSTART;TZID=Europe/Paris:20260307T170000
DTEND;TZID=Europe/Paris:20260307T183000
LOCATION:SALLE DU HARAS
GEO:47.464760;-0.554070
X-APPLE-STRUCTURED-LOCATION;VALUE=URI;X-ADDRESS=SALLE DU HARAS;X-APPLE-RADI
 US=49;X-TITLE=:geo:47.464760,-0.554070
CATEGORIES:rencontre
END:VEVENT
BEGIN:VEVENT
UID:asa-handball/rencontre/3004
DTSTAMP:20260424T165146Z
SUMMARY:-19M : LA FLECHE HANDBALL 1
DESCRIPTION:Salle : LA MONNERIE\nRésultat : 41 - 35
URL:https://www.handball-avrille.com/rencontre/3004
DTSTART;TZID=Europe/Paris:20260314T190000
DTEND;TZID=Europe/Paris:20260314T203000
LOCATION:LA MONNERIE
GEO:47.698550;-0.075180
X-APPLE-STRUCTURED-LOCATION;VALUE=URI;X-ADDRESS=LA MONNERIE;X-APPLE-RADIUS=
 49;X-TITLE=:geo:47.698550,-0.075180
CATEGORIES:rencontre
END:VEVENT
BEGIN:VEVENT
UID:asa-handball/rencontre/3007
DTSTAMP:20260424T165146Z
SUMMARY:-19M : U19M62-C-VSFERTOIS*ECV72
DESCRIPTION:Salle : SALLE TABARLY\nRésultat : 44 - 37
URL:https://www.handball-avrille.com/rencontre/3007
DTSTART;TZID=Europe/Paris:20260328T184500
DTEND;TZID=Europe/Paris:20260328T201500
LOCATION:SALLE TABARLY
GEO:47.500830;-0.595560
X-APPLE-STRUCTURED-LOCATION;VALUE=URI;X-ADDRESS=SALLE TABARLY;X-APPLE-RADIU
 S=49;X-TITLE=:geo:47.500830,-0.595560
CATEGORIES:rencontre
END:VEVENT
BEGIN:VEVENT
UID:asa-handball/rencontre/3010
DTSTAMP:20260424T165146Z
SUMMARY:-19M : U19M53-E-AMBRIERES/MAYENNE
DESCRIPTION:Salle : GAMBETTA
URL:https://www.handball-avrille.com/rencontre/3010
DTSTART;TZID=Europe/Paris:20260502T170000
DTEND;TZID=Europe/Paris:20260502T183000
LOCATION:GAMBETTA
GEO:48.303130;-0.622550
X-APPLE-STRUCTURED-LOCATION;VALUE=URI;X-ADDRESS=GAMBETTA;X-APPLE-RADIUS=49;
 X-TITLE=:geo:48.303130,-0.622550
CATEGORIES:rencontre
END:VEVENT
BEGIN:VEVENT
UID:asa-handball/rencontre/3013
DTSTAMP:20260424T165146Z
SUMMARY:-19M : U19M62-C-1 HCB*HCPS
DESCRIPTION:Salle : ESPACE SPORTIF CLAUDE FORTIN
URL:https://www.handball-avrille.com/rencontre/3013
DTSTART;TZID=Europe/Paris:20260509T193000
DTEND;TZID=Europe/Paris:20260509T210000
LOCATION:ESPACE SPORTIF CLAUDE FORTIN
CATEGORIES:rencontre
END:VEVENT
BEGIN:VEVENT
UID:asa-handball/rencontre/3014
DTSTAMP:20260424T165146Z
SUMMARY:-19M : ANGERS SCO
DESCRIPTION:Salle : SALLE TABARLY
URL:https://www.handball-avrille.com/rencontre/3014
DTSTART;TZID=Europe/Paris:20260530T140000
DTEND;TZID=Europe/Paris:20260530T153000
LOCATION:SALLE TABARLY
CATEGORIES:rencontre
END:VEVENT
END:VCALENDAR
