BEGIN:VCALENDAR
PRODID:-//eluceo/ical//2.0/EN
VERSION:2.0
CALSCALE:GREGORIAN
BEGIN:VEVENT
UID:asa-handball/rencontre/2950
DTSTAMP:20260424T165104Z
SUMMARY:-16M2 * :  E-BEAUCOUZE*AVRILLE
DESCRIPTION:Salle : 
URL:https://www.handball-avrille.com/rencontre/2950
DTSTART;TZID=Europe/Paris:20250920T153000
DTEND;TZID=Europe/Paris:20250920T170000
CATEGORIES:rencontre
END:VEVENT
BEGIN:VEVENT
UID:asa-handball/rencontre/2864
DTSTAMP:20260424T165104Z
SUMMARY:-16M2 * :  E-BEAUCOUZE*AVRILLE
DESCRIPTION:Salle : \nRésultat : 33 - 29
URL:https://www.handball-avrille.com/rencontre/2864
DTSTART;TZID=Europe/Paris:20250927T181500
DTEND;TZID=Europe/Paris:20250927T194500
CATEGORIES:rencontre
END:VEVENT
BEGIN:VEVENT
UID:asa-handball/rencontre/2871
DTSTAMP:20260424T165104Z
SUMMARY:-16M2 * :  E-BEAUCOUZE*AVRILLE
DESCRIPTION:Salle : \nRésultat : 26 - 25
URL:https://www.handball-avrille.com/rencontre/2871
DTSTART;TZID=Europe/Paris:20251004T173000
DTEND;TZID=Europe/Paris:20251004T190000
CATEGORIES:rencontre
END:VEVENT
BEGIN:VEVENT
UID:asa-handball/rencontre/2885
DTSTAMP:20260424T165104Z
SUMMARY:-16M2 * :  BEAUCOUZE HB
DESCRIPTION:Salle : SALLE TABARLY
URL:https://www.handball-avrille.com/rencontre/2885
DTSTART;TZID=Europe/Paris:20251109T140000
DTEND;TZID=Europe/Paris:20251109T153000
LOCATION:SALLE TABARLY
CATEGORIES:rencontre
END:VEVENT
BEGIN:VEVENT
UID:asa-handball/rencontre/2958
DTSTAMP:20260424T165104Z
SUMMARY:-16M2 * :  BEAUCOUZE HB
DESCRIPTION:Salle : SALLE TABARLY
URL:https://www.handball-avrille.com/rencontre/2958
DTSTART;TZID=Europe/Paris:20251115T180000
DTEND;TZID=Europe/Paris:20251115T193000
LOCATION:SALLE TABARLY
CATEGORIES:rencontre
END:VEVENT
BEGIN:VEVENT
UID:asa-handball/rencontre/2901
DTSTAMP:20260424T165104Z
SUMMARY:-16M2 * :  BEAUCOUZE HB
DESCRIPTION:Salle : SALLE TABARLY
URL:https://www.handball-avrille.com/rencontre/2901
DTSTART;TZID=Europe/Paris:20251122T150000
DTEND;TZID=Europe/Paris:20251122T163000
LOCATION:SALLE TABARLY
CATEGORIES:rencontre
END:VEVENT
BEGIN:VEVENT
UID:asa-handball/rencontre/2910
DTSTAMP:20260424T165104Z
SUMMARY:-16M2 * : US MONTREUIL JUIGNE 
DESCRIPTION:Salle : PIERRE DE COUBERTIN
URL:https://www.handball-avrille.com/rencontre/2910
DTSTART;TZID=Europe/Paris:20251206T140000
DTEND;TZID=Europe/Paris:20251206T153000
LOCATION:PIERRE DE COUBERTIN
CATEGORIES:rencontre
END:VEVENT
BEGIN:VEVENT
UID:asa-handball/rencontre/3097
DTSTAMP:20260424T165104Z
SUMMARY:-16M2 * : ANGERS SCO 
DESCRIPTION:Salle : SALLE DU HARAS
URL:https://www.handball-avrille.com/rencontre/3097
DTSTART;TZID=Europe/Paris:20260117T180000
DTEND;TZID=Europe/Paris:20260117T193000
LOCATION:SALLE DU HARAS
CATEGORIES:rencontre
END:VEVENT
BEGIN:VEVENT
UID:asa-handball/rencontre/3104
DTSTAMP:20260424T165104Z
SUMMARY:-16M2 * :  BEAUCOUZE HB
DESCRIPTION:Salle : SPORT'CO
URL:https://www.handball-avrille.com/rencontre/3104
DTSTART;TZID=Europe/Paris:20260124T163000
DTEND;TZID=Europe/Paris:20260124T180000
LOCATION:SPORT'CO
CATEGORIES:rencontre
END:VEVENT
BEGIN:VEVENT
UID:asa-handball/rencontre/3107
DTSTAMP:20260424T165104Z
SUMMARY:-16M2 * : UNION SAUMUR DOUE 1
DESCRIPTION:Salle : JEAN CHACUN (EX - DELESSERT)
URL:https://www.handball-avrille.com/rencontre/3107
DTSTART;TZID=Europe/Paris:20260131T150000
DTEND;TZID=Europe/Paris:20260131T163000
LOCATION:JEAN CHACUN (EX - DELESSERT)
CATEGORIES:rencontre
END:VEVENT
BEGIN:VEVENT
UID:asa-handball/rencontre/3115
DTSTAMP:20260424T165104Z
SUMMARY:-16M2 * :  BEAUCOUZE HB
DESCRIPTION:Salle : SPORT'CO
URL:https://www.handball-avrille.com/rencontre/3115
DTSTART;TZID=Europe/Paris:20260207T161500
DTEND;TZID=Europe/Paris:20260207T174500
LOCATION:SPORT'CO
CATEGORIES:rencontre
END:VEVENT
BEGIN:VEVENT
UID:asa-handball/rencontre/3118
DTSTAMP:20260424T165104Z
SUMMARY:-16M2 * : SEGRE HB
DESCRIPTION:Salle : SALLE BERTRAND ROINE
URL:https://www.handball-avrille.com/rencontre/3118
DTSTART;TZID=Europe/Paris:20260307T150000
DTEND;TZID=Europe/Paris:20260307T163000
LOCATION:SALLE BERTRAND ROINE
CATEGORIES:rencontre
END:VEVENT
BEGIN:VEVENT
UID:asa-handball/rencontre/3125
DTSTAMP:20260424T165104Z
SUMMARY:-16M2 * : U16M49E-BEAUCOUZE HANDBALL*AS AVRILLE HANDBALL
DESCRIPTION:Salle : SALLE TABARLY
URL:https://www.handball-avrille.com/rencontre/3125
DTSTART;TZID=Europe/Paris:20260314T174500
DTEND;TZID=Europe/Paris:20260314T191500
LOCATION:SALLE TABARLY
CATEGORIES:rencontre
END:VEVENT
BEGIN:VEVENT
UID:asa-handball/rencontre/3132
DTSTAMP:20260424T165104Z
SUMMARY:-16M2 * : CS LE LION D'ANGERS
DESCRIPTION:Salle : LA MARE AUX COQS
URL:https://www.handball-avrille.com/rencontre/3132
DTSTART;TZID=Europe/Paris:20260328T180000
DTEND;TZID=Europe/Paris:20260328T193000
LOCATION:LA MARE AUX COQS
CATEGORIES:rencontre
END:VEVENT
END:VCALENDAR
