BEGIN:VCALENDAR
PRODID:-//eluceo/ical//2.0/EN
VERSION:2.0
CALSCALE:GREGORIAN
BEGIN:VEVENT
UID:asa-handball/rencontre/2817
DTSTAMP:20260424T164822Z
SUMMARY:-10M : AAEEC PONTS DE CE
DESCRIPTION:Salle : ESPACE LIGERIA
URL:https://www.handball-avrille.com/rencontre/2817
DTSTART;TZID=Europe/Paris:20251005T103000
DTEND;TZID=Europe/Paris:20251005T120000
LOCATION:ESPACE LIGERIA
GEO:47.436660;-0.528880
X-APPLE-STRUCTURED-LOCATION;VALUE=URI;X-ADDRESS=ESPACE LIGERIA;X-APPLE-RADI
 US=49;X-TITLE=:geo:47.436660,-0.528880
CATEGORIES:rencontre
END:VEVENT
BEGIN:VEVENT
UID:asa-handball/rencontre/2820
DTSTAMP:20260424T164822Z
SUMMARY:-10M : CS LE LION D'ANGERS 3
DESCRIPTION:Salle : LA MARE AUX COQS\nRésultat : 1 - 25
URL:https://www.handball-avrille.com/rencontre/2820
DTSTART;TZID=Europe/Paris:20251011T120000
DTEND;TZID=Europe/Paris:20251011T133000
LOCATION:LA MARE AUX COQS
GEO:47.627590;-0.720020
X-APPLE-STRUCTURED-LOCATION;VALUE=URI;X-ADDRESS=LA MARE AUX COQS;X-APPLE-RA
 DIUS=49;X-TITLE=:geo:47.627590,-0.720020
CATEGORIES:rencontre
END:VEVENT
BEGIN:VEVENT
UID:asa-handball/rencontre/2827
DTSTAMP:20260424T164822Z
SUMMARY:-10M : AAEEC PONTS DE CE
DESCRIPTION:Salle : SALLE TABARLY
URL:https://www.handball-avrille.com/rencontre/2827
DTSTART;TZID=Europe/Paris:20251108T140000
DTEND;TZID=Europe/Paris:20251108T153000
LOCATION:SALLE TABARLY
GEO:47.500830;-0.595560
X-APPLE-STRUCTURED-LOCATION;VALUE=URI;X-ADDRESS=SALLE TABARLY;X-APPLE-RADIU
 S=49;X-TITLE=:geo:47.500830,-0.595560
CATEGORIES:rencontre
END:VEVENT
BEGIN:VEVENT
UID:asa-handball/rencontre/2825
DTSTAMP:20260424T164822Z
SUMMARY:-10M : ANGERSHBC 1
DESCRIPTION:Salle : SALLE TABARLY\nRésultat : 13 - 6
URL:https://www.handball-avrille.com/rencontre/2825
DTSTART;TZID=Europe/Paris:20251108T140000
DTEND;TZID=Europe/Paris:20251108T153000
LOCATION:SALLE TABARLY
GEO:47.500830;-0.595560
X-APPLE-STRUCTURED-LOCATION;VALUE=URI;X-ADDRESS=SALLE TABARLY;X-APPLE-RADIU
 S=49;X-TITLE=:geo:47.500830,-0.595560
CATEGORIES:rencontre
END:VEVENT
BEGIN:VEVENT
UID:asa-handball/rencontre/2824
DTSTAMP:20260424T164822Z
SUMMARY:-10M : BEAUCOUZE HB
DESCRIPTION:Salle : SALLE TABARLY
URL:https://www.handball-avrille.com/rencontre/2824
DTSTART;TZID=Europe/Paris:20251108T140000
DTEND;TZID=Europe/Paris:20251108T153000
LOCATION:SALLE TABARLY
GEO:47.500830;-0.595560
X-APPLE-STRUCTURED-LOCATION;VALUE=URI;X-ADDRESS=SALLE TABARLY;X-APPLE-RADIU
 S=49;X-TITLE=:geo:47.500830,-0.595560
CATEGORIES:rencontre
END:VEVENT
BEGIN:VEVENT
UID:asa-handball/rencontre/2826
DTSTAMP:20260424T164822Z
SUMMARY:-10M : ANGERS HBC 2
DESCRIPTION:Salle : SALLE TABARLY\nRésultat : 12 - 12
URL:https://www.handball-avrille.com/rencontre/2826
DTSTART;TZID=Europe/Paris:20251108T140000
DTEND;TZID=Europe/Paris:20251108T153000
LOCATION:SALLE TABARLY
GEO:47.500830;-0.595560
X-APPLE-STRUCTURED-LOCATION;VALUE=URI;X-ADDRESS=SALLE TABARLY;X-APPLE-RADIU
 S=49;X-TITLE=:geo:47.500830,-0.595560
CATEGORIES:rencontre
END:VEVENT
BEGIN:VEVENT
UID:asa-handball/rencontre/2828
DTSTAMP:20260424T164822Z
SUMMARY:-10M : O. BAUGEOIS
DESCRIPTION:Salle : SALLE TABARLY\nRésultat : 9 - 6
URL:https://www.handball-avrille.com/rencontre/2828
DTSTART;TZID=Europe/Paris:20251108T140000
DTEND;TZID=Europe/Paris:20251108T153000
LOCATION:SALLE TABARLY
GEO:47.500830;-0.595560
X-APPLE-STRUCTURED-LOCATION;VALUE=URI;X-ADDRESS=SALLE TABARLY;X-APPLE-RADIU
 S=49;X-TITLE=:geo:47.500830,-0.595560
CATEGORIES:rencontre
END:VEVENT
BEGIN:VEVENT
UID:asa-handball/rencontre/2832
DTSTAMP:20260424T164822Z
SUMMARY:-10M : US JUVARDEIL
DESCRIPTION:Salle : SALLE TABARLY\nRésultat : 25 - 3
URL:https://www.handball-avrille.com/rencontre/2832
DTSTART;TZID=Europe/Paris:20251115T130000
DTEND;TZID=Europe/Paris:20251115T143000
LOCATION:SALLE TABARLY
GEO:47.500830;-0.595560
X-APPLE-STRUCTURED-LOCATION;VALUE=URI;X-ADDRESS=SALLE TABARLY;X-APPLE-RADIU
 S=49;X-TITLE=:geo:47.500830,-0.595560
CATEGORIES:rencontre
END:VEVENT
BEGIN:VEVENT
UID:asa-handball/rencontre/2839
DTSTAMP:20260424T164822Z
SUMMARY:-10M : BEAUCOUZE HB
DESCRIPTION:Salle : SPORT'CO
URL:https://www.handball-avrille.com/rencontre/2839
DTSTART;TZID=Europe/Paris:20251122T140000
DTEND;TZID=Europe/Paris:20251122T153000
LOCATION:SPORT'CO
GEO:47.476800;-0.643240
X-APPLE-STRUCTURED-LOCATION;VALUE=URI;X-ADDRESS=SPORT'CO;X-APPLE-RADIUS=49;
 X-TITLE=:geo:47.476800,-0.643240
CATEGORIES:rencontre
END:VEVENT
BEGIN:VEVENT
UID:asa-handball/rencontre/2843
DTSTAMP:20260424T164822Z
SUMMARY:-10M : ANGERS SCO 1
DESCRIPTION:Salle : SALLE DU HARAS\nRésultat : 13 - 23
URL:https://www.handball-avrille.com/rencontre/2843
DTSTART;TZID=Europe/Paris:20251129T150000
DTEND;TZID=Europe/Paris:20251129T163000
LOCATION:SALLE DU HARAS
GEO:47.464760;-0.554070
X-APPLE-STRUCTURED-LOCATION;VALUE=URI;X-ADDRESS=SALLE DU HARAS;X-APPLE-RADI
 US=49;X-TITLE=:geo:47.464760,-0.554070
CATEGORIES:rencontre
END:VEVENT
BEGIN:VEVENT
UID:asa-handball/rencontre/2847
DTSTAMP:20260424T164822Z
SUMMARY:-10M : ANGERSHBC 1
DESCRIPTION:Salle : MONTAIGNE
URL:https://www.handball-avrille.com/rencontre/2847
DTSTART;TZID=Europe/Paris:20251207T100000
DTEND;TZID=Europe/Paris:20251207T113000
LOCATION:MONTAIGNE
GEO:47.470170;-0.532170
X-APPLE-STRUCTURED-LOCATION;VALUE=URI;X-ADDRESS=MONTAIGNE;X-APPLE-RADIUS=49
 ;X-TITLE=:geo:47.470170,-0.532170
CATEGORIES:rencontre
END:VEVENT
BEGIN:VEVENT
UID:asa-handball/rencontre/2858
DTSTAMP:20260424T164822Z
SUMMARY:-10M : ANGERS SCO  2
DESCRIPTION:Salle : SALLE DU HARAS\nRésultat : 12 - 28
URL:https://www.handball-avrille.com/rencontre/2858
DTSTART;TZID=Europe/Paris:20251213T114500
DTEND;TZID=Europe/Paris:20251213T131500
LOCATION:SALLE DU HARAS
GEO:47.464760;-0.554070
X-APPLE-STRUCTURED-LOCATION;VALUE=URI;X-ADDRESS=SALLE DU HARAS;X-APPLE-RADI
 US=49;X-TITLE=:geo:47.464760,-0.554070
CATEGORIES:rencontre
END:VEVENT
BEGIN:VEVENT
UID:asa-handball/rencontre/3017
DTSTAMP:20260424T164822Z
SUMMARY:-10M : ANGERSHBC
DESCRIPTION:Salle : MONTAIGNE
URL:https://www.handball-avrille.com/rencontre/3017
DTSTART;TZID=Europe/Paris:20260110T130000
DTEND;TZID=Europe/Paris:20260110T143000
LOCATION:MONTAIGNE
GEO:47.470170;-0.532170
X-APPLE-STRUCTURED-LOCATION;VALUE=URI;X-ADDRESS=MONTAIGNE;X-APPLE-RADIUS=49
 ;X-TITLE=:geo:47.470170,-0.532170
CATEGORIES:rencontre
END:VEVENT
BEGIN:VEVENT
UID:asa-handball/rencontre/3088
DTSTAMP:20260424T164822Z
SUMMARY:-10M : AS AVRILLE HB
DESCRIPTION:Salle : MONTAIGNE
URL:https://www.handball-avrille.com/rencontre/3088
DTSTART;TZID=Europe/Paris:20260110T130000
DTEND;TZID=Europe/Paris:20260110T143000
LOCATION:MONTAIGNE
GEO:47.470170;-0.532170
X-APPLE-STRUCTURED-LOCATION;VALUE=URI;X-ADDRESS=MONTAIGNE;X-APPLE-RADIUS=49
 ;X-TITLE=:geo:47.470170,-0.532170
CATEGORIES:rencontre
END:VEVENT
BEGIN:VEVENT
UID:asa-handball/rencontre/3032
DTSTAMP:20260424T164822Z
SUMMARY:-10M : SEGRE 1
DESCRIPTION:Salle : SALLE BERTRAND ROINE\nRésultat : 6 - 24
URL:https://www.handball-avrille.com/rencontre/3032
DTSTART;TZID=Europe/Paris:20260117T150000
DTEND;TZID=Europe/Paris:20260117T163000
LOCATION:SALLE BERTRAND ROINE
GEO:47.690510;-0.875040
X-APPLE-STRUCTURED-LOCATION;VALUE=URI;X-ADDRESS=SALLE BERTRAND ROINE;X-APPL
 E-RADIUS=49;X-TITLE=:geo:47.690510,-0.875040
CATEGORIES:rencontre
END:VEVENT
BEGIN:VEVENT
UID:asa-handball/rencontre/3089
DTSTAMP:20260424T164822Z
SUMMARY:-10M : AS AVRILLE HB
DESCRIPTION:Salle : CHATEAUCOIN
URL:https://www.handball-avrille.com/rencontre/3089
DTSTART;TZID=Europe/Paris:20260124T140000
DTEND;TZID=Europe/Paris:20260124T153000
LOCATION:CHATEAUCOIN
GEO:47.547680;-0.107710
X-APPLE-STRUCTURED-LOCATION;VALUE=URI;X-ADDRESS=CHATEAUCOIN;X-APPLE-RADIUS=
 49;X-TITLE=:geo:47.547680,-0.107710
CATEGORIES:rencontre
END:VEVENT
BEGIN:VEVENT
UID:asa-handball/rencontre/3044
DTSTAMP:20260424T164822Z
SUMMARY:-10M : TRELAZE HB
DESCRIPTION:Salle : GODUCIERE 1\nRésultat : 15 - 23
URL:https://www.handball-avrille.com/rencontre/3044
DTSTART;TZID=Europe/Paris:20260131T160000
DTEND;TZID=Europe/Paris:20260131T173000
LOCATION:GODUCIERE 1
GEO:47.447220;-0.499200
X-APPLE-STRUCTURED-LOCATION;VALUE=URI;X-ADDRESS=GODUCIERE 1;X-APPLE-RADIUS=
 49;X-TITLE=:geo:47.447220,-0.499200
CATEGORIES:rencontre
END:VEVENT
BEGIN:VEVENT
UID:asa-handball/rencontre/3090
DTSTAMP:20260424T164822Z
SUMMARY:-10M : ANGERSHBC
DESCRIPTION:Salle : SALLE TABARLY
URL:https://www.handball-avrille.com/rencontre/3090
DTSTART;TZID=Europe/Paris:20260207T150000
DTEND;TZID=Europe/Paris:20260207T163000
LOCATION:SALLE TABARLY
GEO:47.500830;-0.595560
X-APPLE-STRUCTURED-LOCATION;VALUE=URI;X-ADDRESS=SALLE TABARLY;X-APPLE-RADIU
 S=49;X-TITLE=:geo:47.500830,-0.595560
CATEGORIES:rencontre
END:VEVENT
BEGIN:VEVENT
UID:asa-handball/rencontre/3053
DTSTAMP:20260424T164822Z
SUMMARY:-10M : ANGERS SCO 1
DESCRIPTION:Salle : SALLE TABARLY\nRésultat : 38 - 10
URL:https://www.handball-avrille.com/rencontre/3053
DTSTART;TZID=Europe/Paris:20260307T143000
DTEND;TZID=Europe/Paris:20260307T160000
LOCATION:SALLE TABARLY
GEO:47.500830;-0.595560
X-APPLE-STRUCTURED-LOCATION;VALUE=URI;X-ADDRESS=SALLE TABARLY;X-APPLE-RADIU
 S=49;X-TITLE=:geo:47.500830,-0.595560
CATEGORIES:rencontre
END:VEVENT
BEGIN:VEVENT
UID:asa-handball/rencontre/3092
DTSTAMP:20260424T164822Z
SUMMARY:-10M : AS AVRILLE HB
DESCRIPTION:Salle : MONTAIGNE
URL:https://www.handball-avrille.com/rencontre/3092
DTSTART;TZID=Europe/Paris:20260314T130000
DTEND;TZID=Europe/Paris:20260314T143000
LOCATION:MONTAIGNE
GEO:47.470170;-0.532170
X-APPLE-STRUCTURED-LOCATION;VALUE=URI;X-ADDRESS=MONTAIGNE;X-APPLE-RADIUS=49
 ;X-TITLE=:geo:47.470170,-0.532170
CATEGORIES:rencontre
END:VEVENT
BEGIN:VEVENT
UID:asa-handball/rencontre/3064
DTSTAMP:20260424T164822Z
SUMMARY:-10M : CS LE LION D'ANGERS 1
DESCRIPTION:Salle : SALLE TABARLY\nRésultat : 23 - 28
URL:https://www.handball-avrille.com/rencontre/3064
DTSTART;TZID=Europe/Paris:20260321T150000
DTEND;TZID=Europe/Paris:20260321T163000
LOCATION:SALLE TABARLY
GEO:47.500830;-0.595560
X-APPLE-STRUCTURED-LOCATION;VALUE=URI;X-ADDRESS=SALLE TABARLY;X-APPLE-RADIU
 S=49;X-TITLE=:geo:47.500830,-0.595560
CATEGORIES:rencontre
END:VEVENT
BEGIN:VEVENT
UID:asa-handball/rencontre/3173
DTSTAMP:20260424T164822Z
SUMMARY:-10M : ANGERS HBC
DESCRIPTION:Salle : MONTAIGNE\nRésultat : 30 - 20
URL:https://www.handball-avrille.com/rencontre/3173
DTSTART;TZID=Europe/Paris:20260411T160000
DTEND;TZID=Europe/Paris:20260411T173000
LOCATION:MONTAIGNE
GEO:47.470170;-0.532170
X-APPLE-STRUCTURED-LOCATION;VALUE=URI;X-ADDRESS=MONTAIGNE;X-APPLE-RADIUS=49
 ;X-TITLE=:geo:47.470170,-0.532170
CATEGORIES:rencontre
END:VEVENT
BEGIN:VEVENT
UID:asa-handball/rencontre/3179
DTSTAMP:20260424T164822Z
SUMMARY:-10M : HBC LOIRE LAYON
DESCRIPTION:Salle : SALLE ST EXUPERY
URL:https://www.handball-avrille.com/rencontre/3179
DTSTART;TZID=Europe/Paris:20260523T111500
DTEND;TZID=Europe/Paris:20260523T124500
LOCATION:SALLE ST EXUPERY
CATEGORIES:rencontre
END:VEVENT
BEGIN:VEVENT
UID:asa-handball/rencontre/3178
DTSTAMP:20260424T164822Z
SUMMARY:-10M : ANGERS SCO  2
DESCRIPTION:Salle : SALLE TABARLY
URL:https://www.handball-avrille.com/rencontre/3178
DTSTART;TZID=Europe/Paris:20260523T140000
DTEND;TZID=Europe/Paris:20260523T153000
LOCATION:SALLE TABARLY
CATEGORIES:rencontre
END:VEVENT
BEGIN:VEVENT
UID:asa-handball/rencontre/3181
DTSTAMP:20260424T164822Z
SUMMARY:-10M : ANGERS HBC
DESCRIPTION:Salle : SALLE TABARLY
URL:https://www.handball-avrille.com/rencontre/3181
DTSTART;TZID=Europe/Paris:20260606T140000
DTEND;TZID=Europe/Paris:20260606T153000
LOCATION:SALLE TABARLY
CATEGORIES:rencontre
END:VEVENT
BEGIN:VEVENT
UID:asa-handball/rencontre/3186
DTSTAMP:20260424T164822Z
SUMMARY:-10M : HBC LOIRE LAYON
DESCRIPTION:Salle : SALLE TABARLY
URL:https://www.handball-avrille.com/rencontre/3186
DTSTART;TZID=Europe/Paris:20260613T143000
DTEND;TZID=Europe/Paris:20260613T160000
LOCATION:SALLE TABARLY
CATEGORIES:rencontre
END:VEVENT
BEGIN:VEVENT
UID:asa-handball/rencontre/3185
DTSTAMP:20260424T164822Z
SUMMARY:-10M : ANGERS SCO  2
DESCRIPTION:Salle : SALLE DU HARAS
URL:https://www.handball-avrille.com/rencontre/3185
DTSTART;TZID=Europe/Paris:20260613T144500
DTEND;TZID=Europe/Paris:20260613T161500
LOCATION:SALLE DU HARAS
CATEGORIES:rencontre
END:VEVENT
END:VCALENDAR
