BEGIN:VCALENDAR
PRODID:-//eluceo/ical//2.0/EN
VERSION:2.0
CALSCALE:GREGORIAN
BEGIN:VEVENT
UID:asa-handball/rencontre/2818
DTSTAMP:20260424T164728Z
SUMMARY:1er pas : US JUVARDEIL
DESCRIPTION:Salle : GILBERT BONTEMPS
URL:https://www.handball-avrille.com/rencontre/2818
DTSTART;TZID=Europe/Paris:20251005T100000
DTEND;TZID=Europe/Paris:20251005T113000
LOCATION:GILBERT BONTEMPS
GEO:47.655970;-0.499210
X-APPLE-STRUCTURED-LOCATION;VALUE=URI;X-ADDRESS=GILBERT BONTEMPS;X-APPLE-RA
 DIUS=49;X-TITLE=:geo:47.655970,-0.499210
CATEGORIES:rencontre
END:VEVENT
BEGIN:VEVENT
UID:asa-handball/rencontre/2821
DTSTAMP:20260424T164728Z
SUMMARY:1er pas : 1ers PAS SEGRE HB
DESCRIPTION:Salle : SALLE BERTRAND ROINE
URL:https://www.handball-avrille.com/rencontre/2821
DTSTART;TZID=Europe/Paris:20251012T110000
DTEND;TZID=Europe/Paris:20251012T123000
LOCATION:SALLE BERTRAND ROINE
GEO:47.690510;-0.875040
X-APPLE-STRUCTURED-LOCATION;VALUE=URI;X-ADDRESS=SALLE BERTRAND ROINE;X-APPL
 E-RADIUS=49;X-TITLE=:geo:47.690510,-0.875040
CATEGORIES:rencontre
END:VEVENT
BEGIN:VEVENT
UID:asa-handball/rencontre/2829
DTSTAMP:20260424T164728Z
SUMMARY:1er pas : SEGRE HB 1
DESCRIPTION:Salle : SALLE BERTRAND ROINE
URL:https://www.handball-avrille.com/rencontre/2829
DTSTART;TZID=Europe/Paris:20251109T123000
DTEND;TZID=Europe/Paris:20251109T140000
LOCATION:SALLE BERTRAND ROINE
GEO:47.690510;-0.875040
X-APPLE-STRUCTURED-LOCATION;VALUE=URI;X-ADDRESS=SALLE BERTRAND ROINE;X-APPL
 E-RADIUS=49;X-TITLE=:geo:47.690510,-0.875040
CATEGORIES:rencontre
END:VEVENT
BEGIN:VEVENT
UID:asa-handball/rencontre/2838
DTSTAMP:20260424T164728Z
SUMMARY:1er pas : US MONTREUIL JUIGNE
DESCRIPTION:Salle : PIERRE DE COUBERTIN
URL:https://www.handball-avrille.com/rencontre/2838
DTSTART;TZID=Europe/Paris:20251116T100000
DTEND;TZID=Europe/Paris:20251116T113000
LOCATION:PIERRE DE COUBERTIN
GEO:47.526230;-0.607700
X-APPLE-STRUCTURED-LOCATION;VALUE=URI;X-ADDRESS=PIERRE DE COUBERTIN;X-APPLE
 -RADIUS=49;X-TITLE=:geo:47.526230,-0.607700
CATEGORIES:rencontre
END:VEVENT
BEGIN:VEVENT
UID:asa-handball/rencontre/2840
DTSTAMP:20260424T164728Z
SUMMARY:1er pas : ANGERS SCO 1
DESCRIPTION:Salle : SALLE DU HARAS
URL:https://www.handball-avrille.com/rencontre/2840
DTSTART;TZID=Europe/Paris:20251122T110000
DTEND;TZID=Europe/Paris:20251122T123000
LOCATION:SALLE DU HARAS
GEO:47.464760;-0.554070
X-APPLE-STRUCTURED-LOCATION;VALUE=URI;X-ADDRESS=SALLE DU HARAS;X-APPLE-RADI
 US=49;X-TITLE=:geo:47.464760,-0.554070
CATEGORIES:rencontre
END:VEVENT
BEGIN:VEVENT
UID:asa-handball/rencontre/2850
DTSTAMP:20260424T164728Z
SUMMARY:1er pas : US JUVARDEIL
DESCRIPTION:Salle : SALLE TABARLY
URL:https://www.handball-avrille.com/rencontre/2850
DTSTART;TZID=Europe/Paris:20251206T113000
DTEND;TZID=Europe/Paris:20251206T130000
LOCATION:SALLE TABARLY
GEO:47.500830;-0.595560
X-APPLE-STRUCTURED-LOCATION;VALUE=URI;X-ADDRESS=SALLE TABARLY;X-APPLE-RADIU
 S=49;X-TITLE=:geo:47.500830,-0.595560
CATEGORIES:rencontre
END:VEVENT
BEGIN:VEVENT
UID:asa-handball/rencontre/2851
DTSTAMP:20260424T164728Z
SUMMARY:1er pas : SEGRE HB 1
DESCRIPTION:Salle : SALLE TABARLY
URL:https://www.handball-avrille.com/rencontre/2851
DTSTART;TZID=Europe/Paris:20251206T113000
DTEND;TZID=Europe/Paris:20251206T130000
LOCATION:SALLE TABARLY
GEO:47.500830;-0.595560
X-APPLE-STRUCTURED-LOCATION;VALUE=URI;X-ADDRESS=SALLE TABARLY;X-APPLE-RADIU
 S=49;X-TITLE=:geo:47.500830,-0.595560
CATEGORIES:rencontre
END:VEVENT
BEGIN:VEVENT
UID:asa-handball/rencontre/2852
DTSTAMP:20260424T164728Z
SUMMARY:1er pas : ANGERS SCO 1
DESCRIPTION:Salle : SALLE TABARLY
URL:https://www.handball-avrille.com/rencontre/2852
DTSTART;TZID=Europe/Paris:20251206T113000
DTEND;TZID=Europe/Paris:20251206T130000
LOCATION:SALLE TABARLY
GEO:47.500830;-0.595560
X-APPLE-STRUCTURED-LOCATION;VALUE=URI;X-ADDRESS=SALLE TABARLY;X-APPLE-RADIU
 S=49;X-TITLE=:geo:47.500830,-0.595560
CATEGORIES:rencontre
END:VEVENT
BEGIN:VEVENT
UID:asa-handball/rencontre/2853
DTSTAMP:20260424T164728Z
SUMMARY:1er pas : ANGERS SCO 2
DESCRIPTION:Salle : SALLE TABARLY
URL:https://www.handball-avrille.com/rencontre/2853
DTSTART;TZID=Europe/Paris:20251206T113000
DTEND;TZID=Europe/Paris:20251206T130000
LOCATION:SALLE TABARLY
GEO:47.500830;-0.595560
X-APPLE-STRUCTURED-LOCATION;VALUE=URI;X-ADDRESS=SALLE TABARLY;X-APPLE-RADIU
 S=49;X-TITLE=:geo:47.500830,-0.595560
CATEGORIES:rencontre
END:VEVENT
BEGIN:VEVENT
UID:asa-handball/rencontre/2848
DTSTAMP:20260424T164728Z
SUMMARY:1er pas : 1ers PAS SEGRE HB
DESCRIPTION:Salle : SALLE TABARLY
URL:https://www.handball-avrille.com/rencontre/2848
DTSTART;TZID=Europe/Paris:20251207T100000
DTEND;TZID=Europe/Paris:20251207T113000
LOCATION:SALLE TABARLY
GEO:47.500830;-0.595560
X-APPLE-STRUCTURED-LOCATION;VALUE=URI;X-ADDRESS=SALLE TABARLY;X-APPLE-RADIU
 S=49;X-TITLE=:geo:47.500830,-0.595560
CATEGORIES:rencontre
END:VEVENT
BEGIN:VEVENT
UID:asa-handball/rencontre/2849
DTSTAMP:20260424T164728Z
SUMMARY:1er pas : US MONTREUIL JUIGNE
DESCRIPTION:Salle : SALLE TABARLY
URL:https://www.handball-avrille.com/rencontre/2849
DTSTART;TZID=Europe/Paris:20251207T100000
DTEND;TZID=Europe/Paris:20251207T113000
LOCATION:SALLE TABARLY
GEO:47.500830;-0.595560
X-APPLE-STRUCTURED-LOCATION;VALUE=URI;X-ADDRESS=SALLE TABARLY;X-APPLE-RADIU
 S=49;X-TITLE=:geo:47.500830,-0.595560
CATEGORIES:rencontre
END:VEVENT
BEGIN:VEVENT
UID:asa-handball/rencontre/2855
DTSTAMP:20260424T164728Z
SUMMARY:1er pas : ANGERS SCO 2
DESCRIPTION:Salle : SALLE DU HARAS
URL:https://www.handball-avrille.com/rencontre/2855
DTSTART;TZID=Europe/Paris:20251213T133000
DTEND;TZID=Europe/Paris:20251213T150000
LOCATION:SALLE DU HARAS
GEO:47.464760;-0.554070
X-APPLE-STRUCTURED-LOCATION;VALUE=URI;X-ADDRESS=SALLE DU HARAS;X-APPLE-RADI
 US=49;X-TITLE=:geo:47.464760,-0.554070
CATEGORIES:rencontre
END:VEVENT
BEGIN:VEVENT
UID:asa-handball/rencontre/2859
DTSTAMP:20260424T164728Z
SUMMARY:1er pas : US MONTREUIL JUIGNE
DESCRIPTION:Salle : PIERRE DE COUBERTIN
URL:https://www.handball-avrille.com/rencontre/2859
DTSTART;TZID=Europe/Paris:20251214T123000
DTEND;TZID=Europe/Paris:20251214T140000
LOCATION:PIERRE DE COUBERTIN
GEO:47.526230;-0.607700
X-APPLE-STRUCTURED-LOCATION;VALUE=URI;X-ADDRESS=PIERRE DE COUBERTIN;X-APPLE
 -RADIUS=49;X-TITLE=:geo:47.526230,-0.607700
CATEGORIES:rencontre
END:VEVENT
BEGIN:VEVENT
UID:asa-handball/rencontre/3020
DTSTAMP:20260424T164728Z
SUMMARY:1er pas : ANGERS SCO 1
DESCRIPTION:Salle : SALLE TABARLY
URL:https://www.handball-avrille.com/rencontre/3020
DTSTART;TZID=Europe/Paris:20260111T100000
DTEND;TZID=Europe/Paris:20260111T113000
LOCATION:SALLE TABARLY
GEO:47.500830;-0.595560
X-APPLE-STRUCTURED-LOCATION;VALUE=URI;X-ADDRESS=SALLE TABARLY;X-APPLE-RADIU
 S=49;X-TITLE=:geo:47.500830,-0.595560
CATEGORIES:rencontre
END:VEVENT
BEGIN:VEVENT
UID:asa-handball/rencontre/3026
DTSTAMP:20260424T164728Z
SUMMARY:1er pas : ANGERS LAC DE MAINE
DESCRIPTION:Salle : JEAN MONNET
URL:https://www.handball-avrille.com/rencontre/3026
DTSTART;TZID=Europe/Paris:20260117T140000
DTEND;TZID=Europe/Paris:20260117T153000
LOCATION:JEAN MONNET
GEO:47.467200;-0.601160
X-APPLE-STRUCTURED-LOCATION;VALUE=URI;X-ADDRESS=JEAN MONNET;X-APPLE-RADIUS=
 49;X-TITLE=:geo:47.467200,-0.601160
CATEGORIES:rencontre
END:VEVENT
BEGIN:VEVENT
UID:asa-handball/rencontre/3034
DTSTAMP:20260424T164728Z
SUMMARY:1er pas : ANGERS SCO 1
DESCRIPTION:Salle : SALLE DU HARAS
URL:https://www.handball-avrille.com/rencontre/3034
DTSTART;TZID=Europe/Paris:20260124T113000
DTEND;TZID=Europe/Paris:20260124T130000
LOCATION:SALLE DU HARAS
GEO:47.464760;-0.554070
X-APPLE-STRUCTURED-LOCATION;VALUE=URI;X-ADDRESS=SALLE DU HARAS;X-APPLE-RADI
 US=49;X-TITLE=:geo:47.464760,-0.554070
CATEGORIES:rencontre
END:VEVENT
BEGIN:VEVENT
UID:asa-handball/rencontre/3049
DTSTAMP:20260424T164728Z
SUMMARY:1er pas : SEGRE HB 1
DESCRIPTION:Salle : SALLE BERTRAND ROINE
URL:https://www.handball-avrille.com/rencontre/3049
DTSTART;TZID=Europe/Paris:20260207T120000
DTEND;TZID=Europe/Paris:20260207T133000
LOCATION:SALLE BERTRAND ROINE
GEO:47.690510;-0.875040
X-APPLE-STRUCTURED-LOCATION;VALUE=URI;X-ADDRESS=SALLE BERTRAND ROINE;X-APPL
 E-RADIUS=49;X-TITLE=:geo:47.690510,-0.875040
CATEGORIES:rencontre
END:VEVENT
BEGIN:VEVENT
UID:asa-handball/rencontre/3045
DTSTAMP:20260424T164728Z
SUMMARY:1er pas : AS AVRILLE HB 2
DESCRIPTION:Salle : SALLE TABARLY
URL:https://www.handball-avrille.com/rencontre/3045
DTSTART;TZID=Europe/Paris:20260207T133000
DTEND;TZID=Europe/Paris:20260207T150000
LOCATION:SALLE TABARLY
GEO:47.500830;-0.595560
X-APPLE-STRUCTURED-LOCATION;VALUE=URI;X-ADDRESS=SALLE TABARLY;X-APPLE-RADIU
 S=49;X-TITLE=:geo:47.500830,-0.595560
CATEGORIES:rencontre
END:VEVENT
BEGIN:VEVENT
UID:asa-handball/rencontre/3051
DTSTAMP:20260424T164728Z
SUMMARY:1er pas : ANGERS SCO 1
DESCRIPTION:Salle : SALLE TABARLY
URL:https://www.handball-avrille.com/rencontre/3051
DTSTART;TZID=Europe/Paris:20260307T130000
DTEND;TZID=Europe/Paris:20260307T143000
LOCATION:SALLE TABARLY
GEO:47.500830;-0.595560
X-APPLE-STRUCTURED-LOCATION;VALUE=URI;X-ADDRESS=SALLE TABARLY;X-APPLE-RADIU
 S=49;X-TITLE=:geo:47.500830,-0.595560
CATEGORIES:rencontre
END:VEVENT
BEGIN:VEVENT
UID:asa-handball/rencontre/3056
DTSTAMP:20260424T164728Z
SUMMARY:1er pas : ANGERS LAC DE MAINE
DESCRIPTION:Salle : SPORT'CO
URL:https://www.handball-avrille.com/rencontre/3056
DTSTART;TZID=Europe/Paris:20260314T140000
DTEND;TZID=Europe/Paris:20260314T153000
LOCATION:SPORT'CO
GEO:47.476800;-0.643240
X-APPLE-STRUCTURED-LOCATION;VALUE=URI;X-ADDRESS=SPORT'CO;X-APPLE-RADIUS=49;
 X-TITLE=:geo:47.476800,-0.643240
CATEGORIES:rencontre
END:VEVENT
BEGIN:VEVENT
UID:asa-handball/rencontre/3070
DTSTAMP:20260424T164728Z
SUMMARY:1er pas : ANGERS LAC DE MAINE
DESCRIPTION:Salle : SALLE TABARLY
URL:https://www.handball-avrille.com/rencontre/3070
DTSTART;TZID=Europe/Paris:20260328T133000
DTEND;TZID=Europe/Paris:20260328T150000
LOCATION:SALLE TABARLY
GEO:47.500830;-0.595560
X-APPLE-STRUCTURED-LOCATION;VALUE=URI;X-ADDRESS=SALLE TABARLY;X-APPLE-RADIU
 S=49;X-TITLE=:geo:47.500830,-0.595560
CATEGORIES:rencontre
END:VEVENT
BEGIN:VEVENT
UID:asa-handball/rencontre/3072
DTSTAMP:20260424T164728Z
SUMMARY:1er pas : BEAUCOUZE HB 2
DESCRIPTION:Salle : SALLE TABARLY
URL:https://www.handball-avrille.com/rencontre/3072
DTSTART;TZID=Europe/Paris:20260328T133000
DTEND;TZID=Europe/Paris:20260328T150000
LOCATION:SALLE TABARLY
GEO:47.500830;-0.595560
X-APPLE-STRUCTURED-LOCATION;VALUE=URI;X-ADDRESS=SALLE TABARLY;X-APPLE-RADIU
 S=49;X-TITLE=:geo:47.500830,-0.595560
CATEGORIES:rencontre
END:VEVENT
BEGIN:VEVENT
UID:asa-handball/rencontre/3067
DTSTAMP:20260424T164728Z
SUMMARY:1er pas : AS AVRILLE HB 2
DESCRIPTION:Salle : ESPACE LIGERIA
URL:https://www.handball-avrille.com/rencontre/3067
DTSTART;TZID=Europe/Paris:20260328T133000
DTEND;TZID=Europe/Paris:20260328T150000
LOCATION:ESPACE LIGERIA
GEO:47.436660;-0.528880
X-APPLE-STRUCTURED-LOCATION;VALUE=URI;X-ADDRESS=ESPACE LIGERIA;X-APPLE-RADI
 US=49;X-TITLE=:geo:47.436660,-0.528880
CATEGORIES:rencontre
END:VEVENT
BEGIN:VEVENT
UID:asa-handball/rencontre/3162
DTSTAMP:20260424T164728Z
SUMMARY:1er pas : US MONTREUIL JUIGNE
DESCRIPTION:Salle : PIERRE DE COUBERTIN
URL:https://www.handball-avrille.com/rencontre/3162
DTSTART;TZID=Europe/Paris:20260411T103000
DTEND;TZID=Europe/Paris:20260411T120000
LOCATION:PIERRE DE COUBERTIN
GEO:47.526230;-0.607700
X-APPLE-STRUCTURED-LOCATION;VALUE=URI;X-ADDRESS=PIERRE DE COUBERTIN;X-APPLE
 -RADIUS=49;X-TITLE=:geo:47.526230,-0.607700
CATEGORIES:rencontre
END:VEVENT
BEGIN:VEVENT
UID:asa-handball/rencontre/3163
DTSTAMP:20260424T164728Z
SUMMARY:1er pas : SEGRE HB 2
DESCRIPTION:Salle : PIERRE DE COUBERTIN
URL:https://www.handball-avrille.com/rencontre/3163
DTSTART;TZID=Europe/Paris:20260411T103000
DTEND;TZID=Europe/Paris:20260411T120000
LOCATION:PIERRE DE COUBERTIN
GEO:47.526230;-0.607700
X-APPLE-STRUCTURED-LOCATION;VALUE=URI;X-ADDRESS=PIERRE DE COUBERTIN;X-APPLE
 -RADIUS=49;X-TITLE=:geo:47.526230,-0.607700
CATEGORIES:rencontre
END:VEVENT
BEGIN:VEVENT
UID:asa-handball/rencontre/3161
DTSTAMP:20260424T164728Z
SUMMARY:1er pas : US JUVARDEIL 1
DESCRIPTION:Salle : GILBERT BONTEMPS
URL:https://www.handball-avrille.com/rencontre/3161
DTSTART;TZID=Europe/Paris:20260411T110000
DTEND;TZID=Europe/Paris:20260411T123000
LOCATION:GILBERT BONTEMPS
GEO:47.655970;-0.499210
X-APPLE-STRUCTURED-LOCATION;VALUE=URI;X-ADDRESS=GILBERT BONTEMPS;X-APPLE-RA
 DIUS=49;X-TITLE=:geo:47.655970,-0.499210
CATEGORIES:rencontre
END:VEVENT
BEGIN:VEVENT
UID:asa-handball/rencontre/3164
DTSTAMP:20260424T164728Z
SUMMARY:1er pas : US JUVARDEIL 1
DESCRIPTION:Salle : SALLE TABARLY
URL:https://www.handball-avrille.com/rencontre/3164
DTSTART;TZID=Europe/Paris:20260523T153000
DTEND;TZID=Europe/Paris:20260523T170000
LOCATION:SALLE TABARLY
CATEGORIES:rencontre
END:VEVENT
BEGIN:VEVENT
UID:asa-handball/rencontre/3166
DTSTAMP:20260424T164728Z
SUMMARY:1er pas : SEGRE HB 2
DESCRIPTION:Salle : SALLE TABARLY
URL:https://www.handball-avrille.com/rencontre/3166
DTSTART;TZID=Europe/Paris:20260523T153000
DTEND;TZID=Europe/Paris:20260523T170000
LOCATION:SALLE TABARLY
CATEGORIES:rencontre
END:VEVENT
BEGIN:VEVENT
UID:asa-handball/rencontre/3167
DTSTAMP:20260424T164728Z
SUMMARY:1er pas : US MONTREUIL JUIGNE
DESCRIPTION:Salle : SALLE TABARLY
URL:https://www.handball-avrille.com/rencontre/3167
DTSTART;TZID=Europe/Paris:20260523T153000
DTEND;TZID=Europe/Paris:20260523T170000
LOCATION:SALLE TABARLY
CATEGORIES:rencontre
END:VEVENT
BEGIN:VEVENT
UID:asa-handball/rencontre/3172
DTSTAMP:20260424T164728Z
SUMMARY:1er pas : US JUVARDEIL 2
DESCRIPTION:Salle : GILBERT BONTEMPS
URL:https://www.handball-avrille.com/rencontre/3172
DTSTART;TZID=Europe/Paris:20260607T100000
DTEND;TZID=Europe/Paris:20260607T113000
LOCATION:GILBERT BONTEMPS
CATEGORIES:rencontre
END:VEVENT
END:VCALENDAR
